BEGIN:VCALENDAR
VERSION:2.0
PRODID:-//Hornbækhus - ECPv6.15.20//NONSGML v1.0//EN
CALSCALE:GREGORIAN
METHOD:PUBLISH
X-WR-CALNAME:Hornbækhus
X-ORIGINAL-URL:https://www.hornbaekhus.com
X-WR-CALDESC:Aktiviteter for Hornbækhus
REFRESH-INTERVAL;VALUE=DURATION:PT1H
X-Robots-Tag:noindex
X-PUBLISHED-TTL:PT1H
BEGIN:VTIMEZONE
TZID:Europe/Copenhagen
BEGIN:DAYLIGHT
TZOFFSETFROM:+0100
TZOFFSETTO:+0200
TZNAME:CEST
DTSTART:20250330T010000
END:DAYLIGHT
BEGIN:STANDARD
TZOFFSETFROM:+0200
TZOFFSETTO:+0100
TZNAME:CET
DTSTART:20251026T010000
END:STANDARD
BEGIN:DAYLIGHT
TZOFFSETFROM:+0100
TZOFFSETTO:+0200
TZNAME:CEST
DTSTART:20260329T010000
END:DAYLIGHT
BEGIN:STANDARD
TZOFFSETFROM:+0200
TZOFFSETTO:+0100
TZNAME:CET
DTSTART:20261025T010000
END:STANDARD
BEGIN:DAYLIGHT
TZOFFSETFROM:+0100
TZOFFSETTO:+0200
TZNAME:CEST
DTSTART:20270328T010000
END:DAYLIGHT
BEGIN:STANDARD
TZOFFSETFROM:+0200
TZOFFSETTO:+0100
TZNAME:CET
DTSTART:20271031T010000
END:STANDARD
END:VTIMEZONE
BEGIN:VEVENT
DTSTART;TZID=Europe/Copenhagen:20260427T160000
DTEND;TZID=Europe/Copenhagen:20260427T180000
DTSTAMP:20260421T110849
CREATED:20260302T175200Z
LAST-MODIFIED:20260331T091928Z
UID:10025171-1777305600-1777312800@www.hornbaekhus.com
SUMMARY:Skrivetid
DESCRIPTION:Vil du gerne i gang med at skrive\, eller er du allerede i gang med et skriveprojekt\, så kom og vær med til skrivetid hos os. \nMåske er det et arbejdsprojekt\, du har brug for at få skrevet. Noter til din egen selvrefleksion. Et LinkedIn-opslag eller en bog\, du drømmer om at få ud i verden. Måske fortæller du os andre\, hvad du arbejder på. Måske ikke. Det vigtigste er\, at du udnytter skriveatmosfæren sådan som det passer dig bedst. \nFor bordenden sidder Karin Zastrow\, som selv er forfatter.\nKarin indleder med en kort afspænding og sørger for\, at du i løbet af de to timer får skrevet i 2 gange 45 minutter og holdt 15 minutters pause. \nVi skriver sammen hver mandag kl. 16.00-18.00 på Hornbækhus i biblioteket. \nPris for deltagelse: 50 kr. (inkluderer kaffe/te/vand i pausen)\nDatoer: 23. marts\, 30. marts\, 13. april\, 20. april\, 27. april\, 4. maj\, 11. maj\, 18. maj\, 1. juni\, 8. juni\nMedbring egen computer eller notesbog og blyant. \nSkrivetid kræver ro og koncentration\, så kom et par minutter før\, så vi sikrer ro om bordet og kan starte præcist.
URL:https://www.hornbaekhus.com/aktivitet/skrivetid/2026-04-27/
LOCATION:Hotel Hornbækhus\, Skovvej 7\, Hornbæk\, 3100\, Danmark
ATTACH;FMTTYPE=image/png:https://www.hornbaekhus.com/wp-content/uploads/2026/03/skrivetid_1200x630.png
GEO:56.090236;12.4511349
X-APPLE-STRUCTURED-LOCATION;VALUE=URI;X-ADDRESS=Hotel Hornbækhus Skovvej 7 Hornbæk 3100 Danmark;X-APPLE-RADIUS=500;X-TITLE=Skovvej 7:geo:12.4511349,56.090236
END:VEVENT
BEGIN:VEVENT
DTSTART;TZID=Europe/Copenhagen:20260504T160000
DTEND;TZID=Europe/Copenhagen:20260504T180000
DTSTAMP:20260421T110849
CREATED:20260302T175200Z
LAST-MODIFIED:20260331T091928Z
UID:10025172-1777910400-1777917600@www.hornbaekhus.com
SUMMARY:Skrivetid
DESCRIPTION:Vil du gerne i gang med at skrive\, eller er du allerede i gang med et skriveprojekt\, så kom og vær med til skrivetid hos os. \nMåske er det et arbejdsprojekt\, du har brug for at få skrevet. Noter til din egen selvrefleksion. Et LinkedIn-opslag eller en bog\, du drømmer om at få ud i verden. Måske fortæller du os andre\, hvad du arbejder på. Måske ikke. Det vigtigste er\, at du udnytter skriveatmosfæren sådan som det passer dig bedst. \nFor bordenden sidder Karin Zastrow\, som selv er forfatter.\nKarin indleder med en kort afspænding og sørger for\, at du i løbet af de to timer får skrevet i 2 gange 45 minutter og holdt 15 minutters pause. \nVi skriver sammen hver mandag kl. 16.00-18.00 på Hornbækhus i biblioteket. \nPris for deltagelse: 50 kr. (inkluderer kaffe/te/vand i pausen)\nDatoer: 23. marts\, 30. marts\, 13. april\, 20. april\, 27. april\, 4. maj\, 11. maj\, 18. maj\, 1. juni\, 8. juni\nMedbring egen computer eller notesbog og blyant. \nSkrivetid kræver ro og koncentration\, så kom et par minutter før\, så vi sikrer ro om bordet og kan starte præcist.
URL:https://www.hornbaekhus.com/aktivitet/skrivetid/2026-05-04/
LOCATION:Hotel Hornbækhus\, Skovvej 7\, Hornbæk\, 3100\, Danmark
ATTACH;FMTTYPE=image/png:https://www.hornbaekhus.com/wp-content/uploads/2026/03/skrivetid_1200x630.png
GEO:56.090236;12.4511349
X-APPLE-STRUCTURED-LOCATION;VALUE=URI;X-ADDRESS=Hotel Hornbækhus Skovvej 7 Hornbæk 3100 Danmark;X-APPLE-RADIUS=500;X-TITLE=Skovvej 7:geo:12.4511349,56.090236
END:VEVENT
BEGIN:VEVENT
DTSTART;TZID=Europe/Copenhagen:20260511T160000
DTEND;TZID=Europe/Copenhagen:20260511T180000
DTSTAMP:20260421T110849
CREATED:20260302T175200Z
LAST-MODIFIED:20260331T091928Z
UID:10025173-1778515200-1778522400@www.hornbaekhus.com
SUMMARY:Skrivetid
DESCRIPTION:Vil du gerne i gang med at skrive\, eller er du allerede i gang med et skriveprojekt\, så kom og vær med til skrivetid hos os. \nMåske er det et arbejdsprojekt\, du har brug for at få skrevet. Noter til din egen selvrefleksion. Et LinkedIn-opslag eller en bog\, du drømmer om at få ud i verden. Måske fortæller du os andre\, hvad du arbejder på. Måske ikke. Det vigtigste er\, at du udnytter skriveatmosfæren sådan som det passer dig bedst. \nFor bordenden sidder Karin Zastrow\, som selv er forfatter.\nKarin indleder med en kort afspænding og sørger for\, at du i løbet af de to timer får skrevet i 2 gange 45 minutter og holdt 15 minutters pause. \nVi skriver sammen hver mandag kl. 16.00-18.00 på Hornbækhus i biblioteket. \nPris for deltagelse: 50 kr. (inkluderer kaffe/te/vand i pausen)\nDatoer: 23. marts\, 30. marts\, 13. april\, 20. april\, 27. april\, 4. maj\, 11. maj\, 18. maj\, 1. juni\, 8. juni\nMedbring egen computer eller notesbog og blyant. \nSkrivetid kræver ro og koncentration\, så kom et par minutter før\, så vi sikrer ro om bordet og kan starte præcist.
URL:https://www.hornbaekhus.com/aktivitet/skrivetid/2026-05-11/
LOCATION:Hotel Hornbækhus\, Skovvej 7\, Hornbæk\, 3100\, Danmark
ATTACH;FMTTYPE=image/png:https://www.hornbaekhus.com/wp-content/uploads/2026/03/skrivetid_1200x630.png
GEO:56.090236;12.4511349
X-APPLE-STRUCTURED-LOCATION;VALUE=URI;X-ADDRESS=Hotel Hornbækhus Skovvej 7 Hornbæk 3100 Danmark;X-APPLE-RADIUS=500;X-TITLE=Skovvej 7:geo:12.4511349,56.090236
END:VEVENT
BEGIN:VEVENT
DTSTART;TZID=Europe/Copenhagen:20260518T160000
DTEND;TZID=Europe/Copenhagen:20260518T180000
DTSTAMP:20260421T110849
CREATED:20260302T175200Z
LAST-MODIFIED:20260331T091928Z
UID:10025174-1779120000-1779127200@www.hornbaekhus.com
SUMMARY:Skrivetid
DESCRIPTION:Vil du gerne i gang med at skrive\, eller er du allerede i gang med et skriveprojekt\, så kom og vær med til skrivetid hos os. \nMåske er det et arbejdsprojekt\, du har brug for at få skrevet. Noter til din egen selvrefleksion. Et LinkedIn-opslag eller en bog\, du drømmer om at få ud i verden. Måske fortæller du os andre\, hvad du arbejder på. Måske ikke. Det vigtigste er\, at du udnytter skriveatmosfæren sådan som det passer dig bedst. \nFor bordenden sidder Karin Zastrow\, som selv er forfatter.\nKarin indleder med en kort afspænding og sørger for\, at du i løbet af de to timer får skrevet i 2 gange 45 minutter og holdt 15 minutters pause. \nVi skriver sammen hver mandag kl. 16.00-18.00 på Hornbækhus i biblioteket. \nPris for deltagelse: 50 kr. (inkluderer kaffe/te/vand i pausen)\nDatoer: 23. marts\, 30. marts\, 13. april\, 20. april\, 27. april\, 4. maj\, 11. maj\, 18. maj\, 1. juni\, 8. juni\nMedbring egen computer eller notesbog og blyant. \nSkrivetid kræver ro og koncentration\, så kom et par minutter før\, så vi sikrer ro om bordet og kan starte præcist.
URL:https://www.hornbaekhus.com/aktivitet/skrivetid/2026-05-18/
LOCATION:Hotel Hornbækhus\, Skovvej 7\, Hornbæk\, 3100\, Danmark
ATTACH;FMTTYPE=image/png:https://www.hornbaekhus.com/wp-content/uploads/2026/03/skrivetid_1200x630.png
GEO:56.090236;12.4511349
X-APPLE-STRUCTURED-LOCATION;VALUE=URI;X-ADDRESS=Hotel Hornbækhus Skovvej 7 Hornbæk 3100 Danmark;X-APPLE-RADIUS=500;X-TITLE=Skovvej 7:geo:12.4511349,56.090236
END:VEVENT
BEGIN:VEVENT
DTSTART;TZID=Europe/Copenhagen:20260525T160000
DTEND;TZID=Europe/Copenhagen:20260525T180000
DTSTAMP:20260421T110849
CREATED:20260302T175200Z
LAST-MODIFIED:20260331T091928Z
UID:10025175-1779724800-1779732000@www.hornbaekhus.com
SUMMARY:Skrivetid
DESCRIPTION:Vil du gerne i gang med at skrive\, eller er du allerede i gang med et skriveprojekt\, så kom og vær med til skrivetid hos os. \nMåske er det et arbejdsprojekt\, du har brug for at få skrevet. Noter til din egen selvrefleksion. Et LinkedIn-opslag eller en bog\, du drømmer om at få ud i verden. Måske fortæller du os andre\, hvad du arbejder på. Måske ikke. Det vigtigste er\, at du udnytter skriveatmosfæren sådan som det passer dig bedst. \nFor bordenden sidder Karin Zastrow\, som selv er forfatter.\nKarin indleder med en kort afspænding og sørger for\, at du i løbet af de to timer får skrevet i 2 gange 45 minutter og holdt 15 minutters pause. \nVi skriver sammen hver mandag kl. 16.00-18.00 på Hornbækhus i biblioteket. \nPris for deltagelse: 50 kr. (inkluderer kaffe/te/vand i pausen)\nDatoer: 23. marts\, 30. marts\, 13. april\, 20. april\, 27. april\, 4. maj\, 11. maj\, 18. maj\, 1. juni\, 8. juni\nMedbring egen computer eller notesbog og blyant. \nSkrivetid kræver ro og koncentration\, så kom et par minutter før\, så vi sikrer ro om bordet og kan starte præcist.
URL:https://www.hornbaekhus.com/aktivitet/skrivetid/2026-05-25/
LOCATION:Hotel Hornbækhus\, Skovvej 7\, Hornbæk\, 3100\, Danmark
ATTACH;FMTTYPE=image/png:https://www.hornbaekhus.com/wp-content/uploads/2026/03/skrivetid_1200x630.png
GEO:56.090236;12.4511349
X-APPLE-STRUCTURED-LOCATION;VALUE=URI;X-ADDRESS=Hotel Hornbækhus Skovvej 7 Hornbæk 3100 Danmark;X-APPLE-RADIUS=500;X-TITLE=Skovvej 7:geo:12.4511349,56.090236
END:VEVENT
BEGIN:VEVENT
DTSTART;TZID=Europe/Copenhagen:20260601T160000
DTEND;TZID=Europe/Copenhagen:20260601T180000
DTSTAMP:20260421T110849
CREATED:20260302T175200Z
LAST-MODIFIED:20260331T091928Z
UID:10025176-1780329600-1780336800@www.hornbaekhus.com
SUMMARY:Skrivetid
DESCRIPTION:Vil du gerne i gang med at skrive\, eller er du allerede i gang med et skriveprojekt\, så kom og vær med til skrivetid hos os. \nMåske er det et arbejdsprojekt\, du har brug for at få skrevet. Noter til din egen selvrefleksion. Et LinkedIn-opslag eller en bog\, du drømmer om at få ud i verden. Måske fortæller du os andre\, hvad du arbejder på. Måske ikke. Det vigtigste er\, at du udnytter skriveatmosfæren sådan som det passer dig bedst. \nFor bordenden sidder Karin Zastrow\, som selv er forfatter.\nKarin indleder med en kort afspænding og sørger for\, at du i løbet af de to timer får skrevet i 2 gange 45 minutter og holdt 15 minutters pause. \nVi skriver sammen hver mandag kl. 16.00-18.00 på Hornbækhus i biblioteket. \nPris for deltagelse: 50 kr. (inkluderer kaffe/te/vand i pausen)\nDatoer: 23. marts\, 30. marts\, 13. april\, 20. april\, 27. april\, 4. maj\, 11. maj\, 18. maj\, 1. juni\, 8. juni\nMedbring egen computer eller notesbog og blyant. \nSkrivetid kræver ro og koncentration\, så kom et par minutter før\, så vi sikrer ro om bordet og kan starte præcist.
URL:https://www.hornbaekhus.com/aktivitet/skrivetid/2026-06-01/
LOCATION:Hotel Hornbækhus\, Skovvej 7\, Hornbæk\, 3100\, Danmark
ATTACH;FMTTYPE=image/png:https://www.hornbaekhus.com/wp-content/uploads/2026/03/skrivetid_1200x630.png
GEO:56.090236;12.4511349
X-APPLE-STRUCTURED-LOCATION;VALUE=URI;X-ADDRESS=Hotel Hornbækhus Skovvej 7 Hornbæk 3100 Danmark;X-APPLE-RADIUS=500;X-TITLE=Skovvej 7:geo:12.4511349,56.090236
END:VEVENT
BEGIN:VEVENT
DTSTART;TZID=Europe/Copenhagen:20260608T160000
DTEND;TZID=Europe/Copenhagen:20260608T180000
DTSTAMP:20260421T110849
CREATED:20260302T175200Z
LAST-MODIFIED:20260331T091928Z
UID:10025177-1780934400-1780941600@www.hornbaekhus.com
SUMMARY:Skrivetid
DESCRIPTION:Vil du gerne i gang med at skrive\, eller er du allerede i gang med et skriveprojekt\, så kom og vær med til skrivetid hos os. \nMåske er det et arbejdsprojekt\, du har brug for at få skrevet. Noter til din egen selvrefleksion. Et LinkedIn-opslag eller en bog\, du drømmer om at få ud i verden. Måske fortæller du os andre\, hvad du arbejder på. Måske ikke. Det vigtigste er\, at du udnytter skriveatmosfæren sådan som det passer dig bedst. \nFor bordenden sidder Karin Zastrow\, som selv er forfatter.\nKarin indleder med en kort afspænding og sørger for\, at du i løbet af de to timer får skrevet i 2 gange 45 minutter og holdt 15 minutters pause. \nVi skriver sammen hver mandag kl. 16.00-18.00 på Hornbækhus i biblioteket. \nPris for deltagelse: 50 kr. (inkluderer kaffe/te/vand i pausen)\nDatoer: 23. marts\, 30. marts\, 13. april\, 20. april\, 27. april\, 4. maj\, 11. maj\, 18. maj\, 1. juni\, 8. juni\nMedbring egen computer eller notesbog og blyant. \nSkrivetid kræver ro og koncentration\, så kom et par minutter før\, så vi sikrer ro om bordet og kan starte præcist.
URL:https://www.hornbaekhus.com/aktivitet/skrivetid/2026-06-08/
LOCATION:Hotel Hornbækhus\, Skovvej 7\, Hornbæk\, 3100\, Danmark
ATTACH;FMTTYPE=image/png:https://www.hornbaekhus.com/wp-content/uploads/2026/03/skrivetid_1200x630.png
GEO:56.090236;12.4511349
X-APPLE-STRUCTURED-LOCATION;VALUE=URI;X-ADDRESS=Hotel Hornbækhus Skovvej 7 Hornbæk 3100 Danmark;X-APPLE-RADIUS=500;X-TITLE=Skovvej 7:geo:12.4511349,56.090236
END:VEVENT
END:VCALENDAR