BEGIN:VCALENDAR
VERSION:2.0
PRODID:-//Hornbækhus - ECPv6.15.20//NONSGML v1.0//EN
CALSCALE:GREGORIAN
METHOD:PUBLISH
X-WR-CALNAME:Hornbækhus
X-ORIGINAL-URL:https://www.hornbaekhus.com
X-WR-CALDESC:Aktiviteter for Hornbækhus
REFRESH-INTERVAL;VALUE=DURATION:PT1H
X-Robots-Tag:noindex
X-PUBLISHED-TTL:PT1H
BEGIN:VTIMEZONE
TZID:Europe/Copenhagen
BEGIN:DAYLIGHT
TZOFFSETFROM:+0100
TZOFFSETTO:+0200
TZNAME:CEST
DTSTART:20250330T010000
END:DAYLIGHT
BEGIN:STANDARD
TZOFFSETFROM:+0200
TZOFFSETTO:+0100
TZNAME:CET
DTSTART:20251026T010000
END:STANDARD
BEGIN:DAYLIGHT
TZOFFSETFROM:+0100
TZOFFSETTO:+0200
TZNAME:CEST
DTSTART:20260329T010000
END:DAYLIGHT
BEGIN:STANDARD
TZOFFSETFROM:+0200
TZOFFSETTO:+0100
TZNAME:CET
DTSTART:20261025T010000
END:STANDARD
BEGIN:DAYLIGHT
TZOFFSETFROM:+0100
TZOFFSETTO:+0200
TZNAME:CEST
DTSTART:20270328T010000
END:DAYLIGHT
BEGIN:STANDARD
TZOFFSETFROM:+0200
TZOFFSETTO:+0100
TZNAME:CET
DTSTART:20271031T010000
END:STANDARD
END:VTIMEZONE
BEGIN:VEVENT
DTSTART;TZID=Europe/Copenhagen:20260421T170000
DTEND;TZID=Europe/Copenhagen:20260421T190000
DTSTAMP:20260421T122132
CREATED:20260302T105702Z
LAST-MODIFIED:20260305T131643Z
UID:10025195-1776790800-1776798000@www.hornbaekhus.com
SUMMARY:Hornbækhus Fællesskabskor
DESCRIPTION:Har du lyst til at synge\, men aldrig prøvet det før? Eller vil du bare gerne mødes en gang om ugen og synge med andre skønne mennesker? Så er Hornbækhus Fællesskabskor et begynderkor\, som er lige noget for dig! Her handler det ikke om at ramme de høje toner perfekt – det handler om at have det sjovt sammen\, mærke fællesskabet og nyde musikken. \nVi starter helt fra bunden\, og du behøver hverken kunne læse noder eller have korerfaring. Der er ingen krav om præstation – kun lysten til at være med. Kom som du er\, og vær med til at skabe et trygt og hyggeligt rum\, hvor vi sammen opdager glæden ved at synge og synge i kor. \nVi starter med enstemmige sange\, og Anne lærer jer at holde tonerne og også om\, hvad det vil sige at synge i kor. Når vi er klar\, kaster vi os ud i nemme to-stemmige sange. Vi håber\, at du har lyst til at komme og synge med. \nKoret vil blive ledet af Anne Lünell\, som har stor erfaring med sangundervisning og som korleder. Anne har undervist i solosang i over 20 år og været aktiv i teatergruppen Mastodonterne siden 2002 – først som sanger og senest som sangcoach. \nPraktisk information:\n• Opstart: Tirsdag d. 7. april 2026\n• Varighed: 8 uger. Vi mødes 9 gange (sidste gang d. 2. juni 2026)\n• Tidspunkt: Hver tirsdag kl. 17.00–19.00\n• Sted: Hornbækhus\, Skovvej 7\, Hornbæk\n• Pris: 800 kr. for hele forløbet \nAlle er velkomne – uanset alder\, stemmeleje eller sangmod.
URL:https://www.hornbaekhus.com/aktivitet/hornbaekhus-faellesskabskor-10/2026-04-21/
LOCATION:Hornbækhus\, Skovvej 7\, Hornbæk\, 3100\, Danmark
ATTACH;FMTTYPE=image/png:https://www.hornbaekhus.com/wp-content/uploads/2025/09/kor_1200x630.png
GEO:56.090236;12.4511349
X-APPLE-STRUCTURED-LOCATION;VALUE=URI;X-ADDRESS=Hornbækhus Skovvej 7 Hornbæk 3100 Danmark;X-APPLE-RADIUS=500;X-TITLE=Skovvej 7:geo:12.4511349,56.090236
END:VEVENT
BEGIN:VEVENT
DTSTART;TZID=Europe/Copenhagen:20260428T170000
DTEND;TZID=Europe/Copenhagen:20260428T190000
DTSTAMP:20260421T122132
CREATED:20260302T105702Z
LAST-MODIFIED:20260305T131643Z
UID:10025196-1777395600-1777402800@www.hornbaekhus.com
SUMMARY:Hornbækhus Fællesskabskor
DESCRIPTION:Har du lyst til at synge\, men aldrig prøvet det før? Eller vil du bare gerne mødes en gang om ugen og synge med andre skønne mennesker? Så er Hornbækhus Fællesskabskor et begynderkor\, som er lige noget for dig! Her handler det ikke om at ramme de høje toner perfekt – det handler om at have det sjovt sammen\, mærke fællesskabet og nyde musikken. \nVi starter helt fra bunden\, og du behøver hverken kunne læse noder eller have korerfaring. Der er ingen krav om præstation – kun lysten til at være med. Kom som du er\, og vær med til at skabe et trygt og hyggeligt rum\, hvor vi sammen opdager glæden ved at synge og synge i kor. \nVi starter med enstemmige sange\, og Anne lærer jer at holde tonerne og også om\, hvad det vil sige at synge i kor. Når vi er klar\, kaster vi os ud i nemme to-stemmige sange. Vi håber\, at du har lyst til at komme og synge med. \nKoret vil blive ledet af Anne Lünell\, som har stor erfaring med sangundervisning og som korleder. Anne har undervist i solosang i over 20 år og været aktiv i teatergruppen Mastodonterne siden 2002 – først som sanger og senest som sangcoach. \nPraktisk information:\n• Opstart: Tirsdag d. 7. april 2026\n• Varighed: 8 uger. Vi mødes 9 gange (sidste gang d. 2. juni 2026)\n• Tidspunkt: Hver tirsdag kl. 17.00–19.00\n• Sted: Hornbækhus\, Skovvej 7\, Hornbæk\n• Pris: 800 kr. for hele forløbet \nAlle er velkomne – uanset alder\, stemmeleje eller sangmod.
URL:https://www.hornbaekhus.com/aktivitet/hornbaekhus-faellesskabskor-10/2026-04-28/
LOCATION:Hornbækhus\, Skovvej 7\, Hornbæk\, 3100\, Danmark
ATTACH;FMTTYPE=image/png:https://www.hornbaekhus.com/wp-content/uploads/2025/09/kor_1200x630.png
GEO:56.090236;12.4511349
X-APPLE-STRUCTURED-LOCATION;VALUE=URI;X-ADDRESS=Hornbækhus Skovvej 7 Hornbæk 3100 Danmark;X-APPLE-RADIUS=500;X-TITLE=Skovvej 7:geo:12.4511349,56.090236
END:VEVENT
BEGIN:VEVENT
DTSTART;TZID=Europe/Copenhagen:20260505T170000
DTEND;TZID=Europe/Copenhagen:20260505T190000
DTSTAMP:20260421T122132
CREATED:20260302T105702Z
LAST-MODIFIED:20260305T131643Z
UID:10025197-1778000400-1778007600@www.hornbaekhus.com
SUMMARY:Hornbækhus Fællesskabskor
DESCRIPTION:Har du lyst til at synge\, men aldrig prøvet det før? Eller vil du bare gerne mødes en gang om ugen og synge med andre skønne mennesker? Så er Hornbækhus Fællesskabskor et begynderkor\, som er lige noget for dig! Her handler det ikke om at ramme de høje toner perfekt – det handler om at have det sjovt sammen\, mærke fællesskabet og nyde musikken. \nVi starter helt fra bunden\, og du behøver hverken kunne læse noder eller have korerfaring. Der er ingen krav om præstation – kun lysten til at være med. Kom som du er\, og vær med til at skabe et trygt og hyggeligt rum\, hvor vi sammen opdager glæden ved at synge og synge i kor. \nVi starter med enstemmige sange\, og Anne lærer jer at holde tonerne og også om\, hvad det vil sige at synge i kor. Når vi er klar\, kaster vi os ud i nemme to-stemmige sange. Vi håber\, at du har lyst til at komme og synge med. \nKoret vil blive ledet af Anne Lünell\, som har stor erfaring med sangundervisning og som korleder. Anne har undervist i solosang i over 20 år og været aktiv i teatergruppen Mastodonterne siden 2002 – først som sanger og senest som sangcoach. \nPraktisk information:\n• Opstart: Tirsdag d. 7. april 2026\n• Varighed: 8 uger. Vi mødes 9 gange (sidste gang d. 2. juni 2026)\n• Tidspunkt: Hver tirsdag kl. 17.00–19.00\n• Sted: Hornbækhus\, Skovvej 7\, Hornbæk\n• Pris: 800 kr. for hele forløbet \nAlle er velkomne – uanset alder\, stemmeleje eller sangmod.
URL:https://www.hornbaekhus.com/aktivitet/hornbaekhus-faellesskabskor-10/2026-05-05/
LOCATION:Hornbækhus\, Skovvej 7\, Hornbæk\, 3100\, Danmark
ATTACH;FMTTYPE=image/png:https://www.hornbaekhus.com/wp-content/uploads/2025/09/kor_1200x630.png
GEO:56.090236;12.4511349
X-APPLE-STRUCTURED-LOCATION;VALUE=URI;X-ADDRESS=Hornbækhus Skovvej 7 Hornbæk 3100 Danmark;X-APPLE-RADIUS=500;X-TITLE=Skovvej 7:geo:12.4511349,56.090236
END:VEVENT
BEGIN:VEVENT
DTSTART;TZID=Europe/Copenhagen:20260512T170000
DTEND;TZID=Europe/Copenhagen:20260512T190000
DTSTAMP:20260421T122132
CREATED:20260302T105702Z
LAST-MODIFIED:20260305T131643Z
UID:10025198-1778605200-1778612400@www.hornbaekhus.com
SUMMARY:Hornbækhus Fællesskabskor
DESCRIPTION:Har du lyst til at synge\, men aldrig prøvet det før? Eller vil du bare gerne mødes en gang om ugen og synge med andre skønne mennesker? Så er Hornbækhus Fællesskabskor et begynderkor\, som er lige noget for dig! Her handler det ikke om at ramme de høje toner perfekt – det handler om at have det sjovt sammen\, mærke fællesskabet og nyde musikken. \nVi starter helt fra bunden\, og du behøver hverken kunne læse noder eller have korerfaring. Der er ingen krav om præstation – kun lysten til at være med. Kom som du er\, og vær med til at skabe et trygt og hyggeligt rum\, hvor vi sammen opdager glæden ved at synge og synge i kor. \nVi starter med enstemmige sange\, og Anne lærer jer at holde tonerne og også om\, hvad det vil sige at synge i kor. Når vi er klar\, kaster vi os ud i nemme to-stemmige sange. Vi håber\, at du har lyst til at komme og synge med. \nKoret vil blive ledet af Anne Lünell\, som har stor erfaring med sangundervisning og som korleder. Anne har undervist i solosang i over 20 år og været aktiv i teatergruppen Mastodonterne siden 2002 – først som sanger og senest som sangcoach. \nPraktisk information:\n• Opstart: Tirsdag d. 7. april 2026\n• Varighed: 8 uger. Vi mødes 9 gange (sidste gang d. 2. juni 2026)\n• Tidspunkt: Hver tirsdag kl. 17.00–19.00\n• Sted: Hornbækhus\, Skovvej 7\, Hornbæk\n• Pris: 800 kr. for hele forløbet \nAlle er velkomne – uanset alder\, stemmeleje eller sangmod.
URL:https://www.hornbaekhus.com/aktivitet/hornbaekhus-faellesskabskor-10/2026-05-12/
LOCATION:Hornbækhus\, Skovvej 7\, Hornbæk\, 3100\, Danmark
ATTACH;FMTTYPE=image/png:https://www.hornbaekhus.com/wp-content/uploads/2025/09/kor_1200x630.png
GEO:56.090236;12.4511349
X-APPLE-STRUCTURED-LOCATION;VALUE=URI;X-ADDRESS=Hornbækhus Skovvej 7 Hornbæk 3100 Danmark;X-APPLE-RADIUS=500;X-TITLE=Skovvej 7:geo:12.4511349,56.090236
END:VEVENT
BEGIN:VEVENT
DTSTART;TZID=Europe/Copenhagen:20260519T170000
DTEND;TZID=Europe/Copenhagen:20260519T190000
DTSTAMP:20260421T122132
CREATED:20260302T105702Z
LAST-MODIFIED:20260305T131643Z
UID:10025199-1779210000-1779217200@www.hornbaekhus.com
SUMMARY:Hornbækhus Fællesskabskor
DESCRIPTION:Har du lyst til at synge\, men aldrig prøvet det før? Eller vil du bare gerne mødes en gang om ugen og synge med andre skønne mennesker? Så er Hornbækhus Fællesskabskor et begynderkor\, som er lige noget for dig! Her handler det ikke om at ramme de høje toner perfekt – det handler om at have det sjovt sammen\, mærke fællesskabet og nyde musikken. \nVi starter helt fra bunden\, og du behøver hverken kunne læse noder eller have korerfaring. Der er ingen krav om præstation – kun lysten til at være med. Kom som du er\, og vær med til at skabe et trygt og hyggeligt rum\, hvor vi sammen opdager glæden ved at synge og synge i kor. \nVi starter med enstemmige sange\, og Anne lærer jer at holde tonerne og også om\, hvad det vil sige at synge i kor. Når vi er klar\, kaster vi os ud i nemme to-stemmige sange. Vi håber\, at du har lyst til at komme og synge med. \nKoret vil blive ledet af Anne Lünell\, som har stor erfaring med sangundervisning og som korleder. Anne har undervist i solosang i over 20 år og været aktiv i teatergruppen Mastodonterne siden 2002 – først som sanger og senest som sangcoach. \nPraktisk information:\n• Opstart: Tirsdag d. 7. april 2026\n• Varighed: 8 uger. Vi mødes 9 gange (sidste gang d. 2. juni 2026)\n• Tidspunkt: Hver tirsdag kl. 17.00–19.00\n• Sted: Hornbækhus\, Skovvej 7\, Hornbæk\n• Pris: 800 kr. for hele forløbet \nAlle er velkomne – uanset alder\, stemmeleje eller sangmod.
URL:https://www.hornbaekhus.com/aktivitet/hornbaekhus-faellesskabskor-10/2026-05-19/
LOCATION:Hornbækhus\, Skovvej 7\, Hornbæk\, 3100\, Danmark
ATTACH;FMTTYPE=image/png:https://www.hornbaekhus.com/wp-content/uploads/2025/09/kor_1200x630.png
GEO:56.090236;12.4511349
X-APPLE-STRUCTURED-LOCATION;VALUE=URI;X-ADDRESS=Hornbækhus Skovvej 7 Hornbæk 3100 Danmark;X-APPLE-RADIUS=500;X-TITLE=Skovvej 7:geo:12.4511349,56.090236
END:VEVENT
BEGIN:VEVENT
DTSTART;TZID=Europe/Copenhagen:20260526T170000
DTEND;TZID=Europe/Copenhagen:20260526T190000
DTSTAMP:20260421T122132
CREATED:20260302T105702Z
LAST-MODIFIED:20260305T131643Z
UID:10025200-1779814800-1779822000@www.hornbaekhus.com
SUMMARY:Hornbækhus Fællesskabskor
DESCRIPTION:Har du lyst til at synge\, men aldrig prøvet det før? Eller vil du bare gerne mødes en gang om ugen og synge med andre skønne mennesker? Så er Hornbækhus Fællesskabskor et begynderkor\, som er lige noget for dig! Her handler det ikke om at ramme de høje toner perfekt – det handler om at have det sjovt sammen\, mærke fællesskabet og nyde musikken. \nVi starter helt fra bunden\, og du behøver hverken kunne læse noder eller have korerfaring. Der er ingen krav om præstation – kun lysten til at være med. Kom som du er\, og vær med til at skabe et trygt og hyggeligt rum\, hvor vi sammen opdager glæden ved at synge og synge i kor. \nVi starter med enstemmige sange\, og Anne lærer jer at holde tonerne og også om\, hvad det vil sige at synge i kor. Når vi er klar\, kaster vi os ud i nemme to-stemmige sange. Vi håber\, at du har lyst til at komme og synge med. \nKoret vil blive ledet af Anne Lünell\, som har stor erfaring med sangundervisning og som korleder. Anne har undervist i solosang i over 20 år og været aktiv i teatergruppen Mastodonterne siden 2002 – først som sanger og senest som sangcoach. \nPraktisk information:\n• Opstart: Tirsdag d. 7. april 2026\n• Varighed: 8 uger. Vi mødes 9 gange (sidste gang d. 2. juni 2026)\n• Tidspunkt: Hver tirsdag kl. 17.00–19.00\n• Sted: Hornbækhus\, Skovvej 7\, Hornbæk\n• Pris: 800 kr. for hele forløbet \nAlle er velkomne – uanset alder\, stemmeleje eller sangmod.
URL:https://www.hornbaekhus.com/aktivitet/hornbaekhus-faellesskabskor-10/2026-05-26/
LOCATION:Hornbækhus\, Skovvej 7\, Hornbæk\, 3100\, Danmark
ATTACH;FMTTYPE=image/png:https://www.hornbaekhus.com/wp-content/uploads/2025/09/kor_1200x630.png
GEO:56.090236;12.4511349
X-APPLE-STRUCTURED-LOCATION;VALUE=URI;X-ADDRESS=Hornbækhus Skovvej 7 Hornbæk 3100 Danmark;X-APPLE-RADIUS=500;X-TITLE=Skovvej 7:geo:12.4511349,56.090236
END:VEVENT
BEGIN:VEVENT
DTSTART;TZID=Europe/Copenhagen:20260602T170000
DTEND;TZID=Europe/Copenhagen:20260602T190000
DTSTAMP:20260421T122132
CREATED:20260302T105702Z
LAST-MODIFIED:20260305T131643Z
UID:10025201-1780419600-1780426800@www.hornbaekhus.com
SUMMARY:Hornbækhus Fællesskabskor
DESCRIPTION:Har du lyst til at synge\, men aldrig prøvet det før? Eller vil du bare gerne mødes en gang om ugen og synge med andre skønne mennesker? Så er Hornbækhus Fællesskabskor et begynderkor\, som er lige noget for dig! Her handler det ikke om at ramme de høje toner perfekt – det handler om at have det sjovt sammen\, mærke fællesskabet og nyde musikken. \nVi starter helt fra bunden\, og du behøver hverken kunne læse noder eller have korerfaring. Der er ingen krav om præstation – kun lysten til at være med. Kom som du er\, og vær med til at skabe et trygt og hyggeligt rum\, hvor vi sammen opdager glæden ved at synge og synge i kor. \nVi starter med enstemmige sange\, og Anne lærer jer at holde tonerne og også om\, hvad det vil sige at synge i kor. Når vi er klar\, kaster vi os ud i nemme to-stemmige sange. Vi håber\, at du har lyst til at komme og synge med. \nKoret vil blive ledet af Anne Lünell\, som har stor erfaring med sangundervisning og som korleder. Anne har undervist i solosang i over 20 år og været aktiv i teatergruppen Mastodonterne siden 2002 – først som sanger og senest som sangcoach. \nPraktisk information:\n• Opstart: Tirsdag d. 7. april 2026\n• Varighed: 8 uger. Vi mødes 9 gange (sidste gang d. 2. juni 2026)\n• Tidspunkt: Hver tirsdag kl. 17.00–19.00\n• Sted: Hornbækhus\, Skovvej 7\, Hornbæk\n• Pris: 800 kr. for hele forløbet \nAlle er velkomne – uanset alder\, stemmeleje eller sangmod.
URL:https://www.hornbaekhus.com/aktivitet/hornbaekhus-faellesskabskor-10/2026-06-02/
LOCATION:Hornbækhus\, Skovvej 7\, Hornbæk\, 3100\, Danmark
ATTACH;FMTTYPE=image/png:https://www.hornbaekhus.com/wp-content/uploads/2025/09/kor_1200x630.png
GEO:56.090236;12.4511349
X-APPLE-STRUCTURED-LOCATION;VALUE=URI;X-ADDRESS=Hornbækhus Skovvej 7 Hornbæk 3100 Danmark;X-APPLE-RADIUS=500;X-TITLE=Skovvej 7:geo:12.4511349,56.090236
END:VEVENT
END:VCALENDAR