BEGIN:VCALENDAR
VERSION:2.0
PRODID:-//Hornbækhus - ECPv6.15.20//NONSGML v1.0//EN
CALSCALE:GREGORIAN
METHOD:PUBLISH
X-ORIGINAL-URL:https://www.hornbaekhus.com
X-WR-CALDESC:Aktiviteter for Hornbækhus
REFRESH-INTERVAL;VALUE=DURATION:PT1H
X-Robots-Tag:noindex
X-PUBLISHED-TTL:PT1H
BEGIN:VTIMEZONE
TZID:Europe/Copenhagen
BEGIN:DAYLIGHT
TZOFFSETFROM:+0100
TZOFFSETTO:+0200
TZNAME:CEST
DTSTART:20240331T010000
END:DAYLIGHT
BEGIN:STANDARD
TZOFFSETFROM:+0200
TZOFFSETTO:+0100
TZNAME:CET
DTSTART:20241027T010000
END:STANDARD
BEGIN:DAYLIGHT
TZOFFSETFROM:+0100
TZOFFSETTO:+0200
TZNAME:CEST
DTSTART:20250330T010000
END:DAYLIGHT
BEGIN:STANDARD
TZOFFSETFROM:+0200
TZOFFSETTO:+0100
TZNAME:CET
DTSTART:20251026T010000
END:STANDARD
BEGIN:DAYLIGHT
TZOFFSETFROM:+0100
TZOFFSETTO:+0200
TZNAME:CEST
DTSTART:20260329T010000
END:DAYLIGHT
BEGIN:STANDARD
TZOFFSETFROM:+0200
TZOFFSETTO:+0100
TZNAME:CET
DTSTART:20261025T010000
END:STANDARD
BEGIN:DAYLIGHT
TZOFFSETFROM:+0100
TZOFFSETTO:+0200
TZNAME:CEST
DTSTART:20270328T010000
END:DAYLIGHT
BEGIN:STANDARD
TZOFFSETFROM:+0200
TZOFFSETTO:+0100
TZNAME:CET
DTSTART:20271031T010000
END:STANDARD
END:VTIMEZONE
BEGIN:VEVENT
DTSTART;TZID=Europe/Copenhagen:20251229T100000
DTEND;TZID=Europe/Copenhagen:20251229T120000
DTSTAMP:20260423T102714
CREATED:20230609T141153Z
LAST-MODIFIED:20260331T092237Z
UID:10011068-1767002400-1767009600@www.hornbaekhus.com
SUMMARY:Strikkecafé
DESCRIPTION:Hver mandag og torsdag inviterer vi indenfor til strik og hækling i en af stuerne. Strikkecaféen er et samlingspunkt for alle der synes\, det er hyggeligt at mødes og strikke sammen med andre\, og det koster ingenting at være med. Tilmelding er dog nødvendig.\nVi byder på en kop kaffe og te.
URL:https://www.hornbaekhus.com/aktivitet/strikkecafe/2025-12-29/
LOCATION:Hornbækhus\, Skovvej 7\, Hornbæk\, 3100\, Danmark
ATTACH;FMTTYPE=image/png:https://www.hornbaekhus.com/wp-content/uploads/2023/06/strikkecafe_1200x630.png
GEO:56.090236;12.4511349
X-APPLE-STRUCTURED-LOCATION;VALUE=URI;X-ADDRESS=Hornbækhus Skovvej 7 Hornbæk 3100 Danmark;X-APPLE-RADIUS=500;X-TITLE=Skovvej 7:geo:12.4511349,56.090236
END:VEVENT
BEGIN:VEVENT
DTSTART;TZID=Europe/Copenhagen:20251229T150000
DTEND;TZID=Europe/Copenhagen:20251229T170000
DTSTAMP:20260423T102714
CREATED:20251211T155913Z
LAST-MODIFIED:20251222T083304Z
UID:10024344-1767020400-1767027600@www.hornbaekhus.com
SUMMARY:Jule-afternoon tea
DESCRIPTION:I årets to sidste uger har vi d. 16.\, 17.\, 18.\, 19.\, 21.\, 22.\, 23.\, 27.\, 28.\, 29. og 30. december jule-afternoon tea i en af vores stuer kl. 15.00-17.00.\nHer hører der scones med lemon curd og appelsinmarmelade\, julecookies\, æbleskiver og juleromkugler til. Dertil kaffe eller te og hjemmelavet gløgg \nPris: 185 kr. pr. person og bestilles til min. 2 personer.\nTraktementet skal bestilles dagen før\, det skal forudbetales ved reservation og kan ikke annulleres eller ændres. \nMinimum 24 timers annullering\, da kokkene allerede her går igang med bagværket. \nVi kan desværre ikke tage hensyn til allergier. \n  \n 
URL:https://www.hornbaekhus.com/aktivitet/jule-afternoon-tea/2025-12-29/
LOCATION:Hornbækhus\, Skovvej 7\, Hornbæk\, 3100\, Danmark
ATTACH;FMTTYPE=image/png:https://www.hornbaekhus.com/wp-content/uploads/2025/12/juleafternoontea_1200x630-1.png
GEO:56.090236;12.4511349
X-APPLE-STRUCTURED-LOCATION;VALUE=URI;X-ADDRESS=Hornbækhus Skovvej 7 Hornbæk 3100 Danmark;X-APPLE-RADIUS=500;X-TITLE=Skovvej 7:geo:12.4511349,56.090236
END:VEVENT
BEGIN:VEVENT
DTSTART;TZID=Europe/Copenhagen:20251229T190000
DTEND;TZID=Europe/Copenhagen:20251229T210000
DTSTAMP:20260423T102714
CREATED:20251022T121643Z
LAST-MODIFIED:20260312T025257Z
UID:10016311-1767034800-1767042000@www.hornbaekhus.com
SUMMARY:Fællesspisning
DESCRIPTION:Vi spiser sammen ved spisestuens plankeborde til fællesspisning hver aften kl. 19.00\, hvor maden serveres anrette på fade\, der går rundt. \nKøkkenet laver sæsonbetonet mad uden dogmer. Stilen er enkel og med fokus på gode råvarer. Som udgangspunkt er menuen vegetarisk torsdag og søndag. Find ugens menu længere nede på siden. \nVi tilbyder dagligt et vegetarisk alternativ til dagens måltid. Det er vigtigt\, at du noterer antal vegetarer i kommentarfeltet\, når du bestiller dit bord. \nPrisen er 175 kr. for middagen pr. person og 50 kr. for dessert. Dessert og kaffe kan købes efter maden. Børn til og med 3 år betaler ikke. \nHusk at reservere dine pladser på forhånd.\nAnkom gerne ca. 20 minutter før\, så du kan få noget at drikke og finde en plads ved langbordet\, inden maden serveres. \nVi kan ikke tilpasse maden eller garantere veganske\, mælkefri eller glutenfri muligheder.\nDer tages forbehold for ændringer i menuen. \nDu kan se menuen HER.
URL:https://www.hornbaekhus.com/aktivitet/faellesspisning/2025-12-29/
LOCATION:Hornbækhus\, Skovvej 7\, Hornbæk\, 3100\, Danmark
ATTACH;FMTTYPE=image/png:https://www.hornbaekhus.com/wp-content/uploads/2025/09/faellesspisning_1200x630.png
GEO:56.090236;12.4511349
X-APPLE-STRUCTURED-LOCATION;VALUE=URI;X-ADDRESS=Hornbækhus Skovvej 7 Hornbæk 3100 Danmark;X-APPLE-RADIUS=500;X-TITLE=Skovvej 7:geo:12.4511349,56.090236
END:VEVENT
BEGIN:VEVENT
DTSTART;TZID=Europe/Copenhagen:20251230T090000
DTEND;TZID=Europe/Copenhagen:20251230T100000
DTSTAMP:20260423T102714
CREATED:20240311T111801Z
LAST-MODIFIED:20251103T172401Z
UID:10010446-1767085200-1767088800@www.hornbaekhus.com
SUMMARY:Løbeklub
DESCRIPTION:Løb med Hornbæks hyggeligste løbefamilie hver tirsdag og torsdag\nAlle er velkomne uanset niveau. \nVi mødes ved trappen foran Hornbækhus ca. 5 min før\, hvor en repræsentant fra Løbeklubben tager imod.\nBagefter er der kaffe og morgenbolle på Hornbækhus.\nDet er gratis at deltage\, og tilmelding er ikke nødvendig. \nVi glæder os til at løbe med dig.
URL:https://www.hornbaekhus.com/aktivitet/loebeklub-2/2025-12-30/
LOCATION:Hornbækhus\, Skovvej 7\, Hornbæk\, 3100\, Danmark
ATTACH;FMTTYPE=image/png:https://www.hornbaekhus.com/wp-content/uploads/2024/03/loebeklub_1200x630.png
GEO:56.090236;12.4511349
X-APPLE-STRUCTURED-LOCATION;VALUE=URI;X-ADDRESS=Hornbækhus Skovvej 7 Hornbæk 3100 Danmark;X-APPLE-RADIUS=500;X-TITLE=Skovvej 7:geo:12.4511349,56.090236
END:VEVENT
BEGIN:VEVENT
DTSTART;TZID=Europe/Copenhagen:20251230T150000
DTEND;TZID=Europe/Copenhagen:20251230T170000
DTSTAMP:20260423T102714
CREATED:20251211T155913Z
LAST-MODIFIED:20251222T083304Z
UID:10024345-1767106800-1767114000@www.hornbaekhus.com
SUMMARY:Jule-afternoon tea
DESCRIPTION:I årets to sidste uger har vi d. 16.\, 17.\, 18.\, 19.\, 21.\, 22.\, 23.\, 27.\, 28.\, 29. og 30. december jule-afternoon tea i en af vores stuer kl. 15.00-17.00.\nHer hører der scones med lemon curd og appelsinmarmelade\, julecookies\, æbleskiver og juleromkugler til. Dertil kaffe eller te og hjemmelavet gløgg \nPris: 185 kr. pr. person og bestilles til min. 2 personer.\nTraktementet skal bestilles dagen før\, det skal forudbetales ved reservation og kan ikke annulleres eller ændres. \nMinimum 24 timers annullering\, da kokkene allerede her går igang med bagværket. \nVi kan desværre ikke tage hensyn til allergier. \n  \n 
URL:https://www.hornbaekhus.com/aktivitet/jule-afternoon-tea/2025-12-30/
LOCATION:Hornbækhus\, Skovvej 7\, Hornbæk\, 3100\, Danmark
ATTACH;FMTTYPE=image/png:https://www.hornbaekhus.com/wp-content/uploads/2025/12/juleafternoontea_1200x630-1.png
GEO:56.090236;12.4511349
X-APPLE-STRUCTURED-LOCATION;VALUE=URI;X-ADDRESS=Hornbækhus Skovvej 7 Hornbæk 3100 Danmark;X-APPLE-RADIUS=500;X-TITLE=Skovvej 7:geo:12.4511349,56.090236
END:VEVENT
BEGIN:VEVENT
DTSTART;TZID=Europe/Copenhagen:20251230T190000
DTEND;TZID=Europe/Copenhagen:20251230T210000
DTSTAMP:20260423T102714
CREATED:20251022T121643Z
LAST-MODIFIED:20260312T025257Z
UID:10016312-1767121200-1767128400@www.hornbaekhus.com
SUMMARY:Fællesspisning
DESCRIPTION:Vi spiser sammen ved spisestuens plankeborde til fællesspisning hver aften kl. 19.00\, hvor maden serveres anrette på fade\, der går rundt. \nKøkkenet laver sæsonbetonet mad uden dogmer. Stilen er enkel og med fokus på gode råvarer. Som udgangspunkt er menuen vegetarisk torsdag og søndag. Find ugens menu længere nede på siden. \nVi tilbyder dagligt et vegetarisk alternativ til dagens måltid. Det er vigtigt\, at du noterer antal vegetarer i kommentarfeltet\, når du bestiller dit bord. \nPrisen er 175 kr. for middagen pr. person og 50 kr. for dessert. Dessert og kaffe kan købes efter maden. Børn til og med 3 år betaler ikke. \nHusk at reservere dine pladser på forhånd.\nAnkom gerne ca. 20 minutter før\, så du kan få noget at drikke og finde en plads ved langbordet\, inden maden serveres. \nVi kan ikke tilpasse maden eller garantere veganske\, mælkefri eller glutenfri muligheder.\nDer tages forbehold for ændringer i menuen. \nDu kan se menuen HER.
URL:https://www.hornbaekhus.com/aktivitet/faellesspisning/2025-12-30/
LOCATION:Hornbækhus\, Skovvej 7\, Hornbæk\, 3100\, Danmark
ATTACH;FMTTYPE=image/png:https://www.hornbaekhus.com/wp-content/uploads/2025/09/faellesspisning_1200x630.png
GEO:56.090236;12.4511349
X-APPLE-STRUCTURED-LOCATION;VALUE=URI;X-ADDRESS=Hornbækhus Skovvej 7 Hornbæk 3100 Danmark;X-APPLE-RADIUS=500;X-TITLE=Skovvej 7:geo:12.4511349,56.090236
END:VEVENT
BEGIN:VEVENT
DTSTART;TZID=Europe/Copenhagen:20251231T190000
DTEND;TZID=Europe/Copenhagen:20251231T210000
DTSTAMP:20260423T102714
CREATED:20251110T153610Z
LAST-MODIFIED:20251110T153843Z
UID:10016313-1767207600-1767214800@www.hornbaekhus.com
SUMMARY:Fællesspisning - udsolgt
DESCRIPTION:Vi spiser sammen ved spisestuens plankeborde til fællesspisning hver aften kl. 19.00\, hvor maden serveres anrette på fade\, der går rundt. \nKøkkenet laver sæsonbetonet mad uden dogmer. Stilen er enkel og med fokus på gode råvarer. Som udgangspunkt er menuen vegetarisk torsdag og søndag. Find ugens menu længere nede på siden. \nVi tilbyder dagligt et vegetarisk alternativ til dagens måltid. Det er vigtigt\, at du noterer antal vegetarer i kommentarfeltet\, når du bestiller dit bord. \nPrisen er 150 kr. for middagen pr. person og 50 kr. for dessert. Dessert og kaffe kan købes efter maden. Børn til og med 3 år betaler ikke. \nHusk at reservere dine pladser på forhånd.\nAnkom gerne ca. 20 minutter før\, så du kan få noget at drikke og finde en plads ved langbordet\, inden maden serveres. \nVi kan ikke tilpasse maden eller garantere veganske\, mælkefri eller glutenfri muligheder.\nDer tages forbehold for ændringer i menuen. \nDu kan se menuen HER.
URL:https://www.hornbaekhus.com/aktivitet/faellesspisning-3/
LOCATION:Hornbækhus\, Skovvej 7\, Hornbæk\, 3100\, Danmark
ATTACH;FMTTYPE=image/png:https://www.hornbaekhus.com/wp-content/uploads/2025/09/faellesspisning_1200x630.png
GEO:56.090236;12.4511349
X-APPLE-STRUCTURED-LOCATION;VALUE=URI;X-ADDRESS=Hornbækhus Skovvej 7 Hornbæk 3100 Danmark;X-APPLE-RADIUS=500;X-TITLE=Skovvej 7:geo:12.4511349,56.090236
END:VEVENT
BEGIN:VEVENT
DTSTART;TZID=Europe/Copenhagen:20260102T010000
DTEND;TZID=Europe/Copenhagen:20260102T010000
DTSTAMP:20260423T102714
CREATED:20251103T181623Z
LAST-MODIFIED:20251211T103502Z
UID:10020251-1767315600-1767315600@www.hornbaekhus.com
SUMMARY:Vinterlukket
DESCRIPTION:Vi holder vinterlukket fra d. 1. januar til og med d. 15. januar\, så vi kan blive klar til at give dig den bedste oplevelse\, når du besøger os. \nVi glæder os til at byde dig velkommen igen.
URL:https://www.hornbaekhus.com/aktivitet/vinterlukket/2026-01-02/
LOCATION:Hornbæk
ATTACH;FMTTYPE=image/png:https://www.hornbaekhus.com/wp-content/uploads/2025/11/vinterlukket_1200x630.png
END:VEVENT
BEGIN:VEVENT
DTSTART;TZID=Europe/Copenhagen:20260103T010000
DTEND;TZID=Europe/Copenhagen:20260103T010000
DTSTAMP:20260423T102714
CREATED:20251103T181623Z
LAST-MODIFIED:20251211T103502Z
UID:10020252-1767402000-1767402000@www.hornbaekhus.com
SUMMARY:Vinterlukket
DESCRIPTION:Vi holder vinterlukket fra d. 1. januar til og med d. 15. januar\, så vi kan blive klar til at give dig den bedste oplevelse\, når du besøger os. \nVi glæder os til at byde dig velkommen igen.
URL:https://www.hornbaekhus.com/aktivitet/vinterlukket/2026-01-03/
LOCATION:Hornbæk
ATTACH;FMTTYPE=image/png:https://www.hornbaekhus.com/wp-content/uploads/2025/11/vinterlukket_1200x630.png
END:VEVENT
BEGIN:VEVENT
DTSTART;TZID=Europe/Copenhagen:20260104T010000
DTEND;TZID=Europe/Copenhagen:20260104T010000
DTSTAMP:20260423T102714
CREATED:20251103T181623Z
LAST-MODIFIED:20251211T103502Z
UID:10020253-1767488400-1767488400@www.hornbaekhus.com
SUMMARY:Vinterlukket
DESCRIPTION:Vi holder vinterlukket fra d. 1. januar til og med d. 15. januar\, så vi kan blive klar til at give dig den bedste oplevelse\, når du besøger os. \nVi glæder os til at byde dig velkommen igen.
URL:https://www.hornbaekhus.com/aktivitet/vinterlukket/2026-01-04/
LOCATION:Hornbæk
ATTACH;FMTTYPE=image/png:https://www.hornbaekhus.com/wp-content/uploads/2025/11/vinterlukket_1200x630.png
END:VEVENT
END:VCALENDAR