BEGIN:VCALENDAR
VERSION:2.0
PRODID:-//Hornbækhus - ECPv6.15.20//NONSGML v1.0//EN
CALSCALE:GREGORIAN
METHOD:PUBLISH
X-ORIGINAL-URL:https://www.hornbaekhus.com
X-WR-CALDESC:Aktiviteter for Hornbækhus
REFRESH-INTERVAL;VALUE=DURATION:PT1H
X-Robots-Tag:noindex
X-PUBLISHED-TTL:PT1H
BEGIN:VTIMEZONE
TZID:Europe/Copenhagen
BEGIN:DAYLIGHT
TZOFFSETFROM:+0100
TZOFFSETTO:+0200
TZNAME:CEST
DTSTART:20250330T010000
END:DAYLIGHT
BEGIN:STANDARD
TZOFFSETFROM:+0200
TZOFFSETTO:+0100
TZNAME:CET
DTSTART:20251026T010000
END:STANDARD
BEGIN:DAYLIGHT
TZOFFSETFROM:+0100
TZOFFSETTO:+0200
TZNAME:CEST
DTSTART:20260329T010000
END:DAYLIGHT
BEGIN:STANDARD
TZOFFSETFROM:+0200
TZOFFSETTO:+0100
TZNAME:CET
DTSTART:20261025T010000
END:STANDARD
BEGIN:DAYLIGHT
TZOFFSETFROM:+0100
TZOFFSETTO:+0200
TZNAME:CEST
DTSTART:20270328T010000
END:DAYLIGHT
BEGIN:STANDARD
TZOFFSETFROM:+0200
TZOFFSETTO:+0100
TZNAME:CET
DTSTART:20271031T010000
END:STANDARD
END:VTIMEZONE
BEGIN:VEVENT
DTSTART;TZID=Europe/Copenhagen:20260223T083000
DTEND;TZID=Europe/Copenhagen:20260223T093000
DTSTAMP:20260421T122238
CREATED:20251211T103902Z
LAST-MODIFIED:20260318T113438Z
UID:10024291-1771835400-1771839000@www.hornbaekhus.com
SUMMARY:Morgenyoga
DESCRIPTION:Start din dag med morgenyoga på Hornbækhus\, hvor vi både vil arbejde med forskellige\, klassiske positioner og åndedræt. Alle kan deltage\, både den erfarne yogi og begynderen. \nPraktiske oplysninger:\nTag behageligt\, afslappet tøj på og medbring din egen yogamåtte og et tæppe\, du kan dække dig med under afspændingen.\nKom 15 minutter før\, så du kan nå at finde dig til rette.\nNår du ankommer\, vil du få at vide\, hvor på hotellet vi skal lave yoga den pågældende dag. \nLokationen vil variere fra dag til dag afhængig af antal og vejr. Henvend dig venligst i velkomsten på Hornbækhus for mødested på dagen. \nInstruktør: Anita Guldberg\nLæs mere om yoga med Anita Guldberg HER. \nDu kan også aftale andre tidspunkter for yoga med Anita på Hornbækhus ved at kontakte hende og høre om mulighederne på hendes mail på a_guldberg@hotmail.com. Så finder I et tidspunkt sammen.
URL:https://www.hornbaekhus.com/aktivitet/morgenyoga-4/2026-02-23/
LOCATION:Hornbækhus\, Skovvej 7\, Hornbæk\, 3100\, Danmark
ATTACH;FMTTYPE=image/png:https://www.hornbaekhus.com/wp-content/uploads/2024/10/yoga2_1200x630-1.png
GEO:56.090236;12.4511349
X-APPLE-STRUCTURED-LOCATION;VALUE=URI;X-ADDRESS=Hornbækhus Skovvej 7 Hornbæk 3100 Danmark;X-APPLE-RADIUS=500;X-TITLE=Skovvej 7:geo:12.4511349,56.090236
END:VEVENT
BEGIN:VEVENT
DTSTART;TZID=Europe/Copenhagen:20260223T100000
DTEND;TZID=Europe/Copenhagen:20260223T120000
DTSTAMP:20260421T122238
CREATED:20230609T141153Z
LAST-MODIFIED:20260331T092237Z
UID:10011076-1771840800-1771848000@www.hornbaekhus.com
SUMMARY:Strikkecafé
DESCRIPTION:Hver mandag og torsdag inviterer vi indenfor til strik og hækling i en af stuerne. Strikkecaféen er et samlingspunkt for alle der synes\, det er hyggeligt at mødes og strikke sammen med andre\, og det koster ingenting at være med. Tilmelding er dog nødvendig.\nVi byder på en kop kaffe og te.
URL:https://www.hornbaekhus.com/aktivitet/strikkecafe/2026-02-23/
LOCATION:Hornbækhus\, Skovvej 7\, Hornbæk\, 3100\, Danmark
ATTACH;FMTTYPE=image/png:https://www.hornbaekhus.com/wp-content/uploads/2023/06/strikkecafe_1200x630.png
GEO:56.090236;12.4511349
X-APPLE-STRUCTURED-LOCATION;VALUE=URI;X-ADDRESS=Hornbækhus Skovvej 7 Hornbæk 3100 Danmark;X-APPLE-RADIUS=500;X-TITLE=Skovvej 7:geo:12.4511349,56.090236
END:VEVENT
BEGIN:VEVENT
DTSTART;TZID=Europe/Copenhagen:20260223T144500
DTEND;TZID=Europe/Copenhagen:20260223T171500
DTSTAMP:20260421T122238
CREATED:20251015T112452Z
LAST-MODIFIED:20251015T112917Z
UID:10016213-1771857900-1771866900@www.hornbaekhus.com
SUMMARY:Afternoon Tea
DESCRIPTION:Kom til Afternoon Tea på Hornbækhus\, som vi serverer hver mandag kl. 14.45-16.45 eller 15.15-17.15 fra d. 3. november til d. 30. marts i Blomsterstuen.\nGlæd dig til scones med lemon curd og appelsinmarmelade\, mariebolle med sprød top og jordbærcreme\, hvid chokoladebrownie med brunet smør og citron\, sandwich med saltet agurk og flødeost. Hertil får du kaffe/the og ét glas bobler. \nTraktementet bestilles og forudbetales ved reservation. Prisen er 185 kr. pr. person\, og skal bestilles til min. 2 personer. \nMinimum 24 timers annullering\, da kokkene allerede her går igang med bagværket.
URL:https://www.hornbaekhus.com/aktivitet/afternoon-tea/2026-02-23/
LOCATION:Hornbækhus\, Skovvej 7\, Hornbæk\, 3100\, Danmark
ATTACH;FMTTYPE=image/png:https://www.hornbaekhus.com/wp-content/uploads/2025/10/Afternoontea_1200x630.png
GEO:56.090236;12.4511349
X-APPLE-STRUCTURED-LOCATION;VALUE=URI;X-ADDRESS=Hornbækhus Skovvej 7 Hornbæk 3100 Danmark;X-APPLE-RADIUS=500;X-TITLE=Skovvej 7:geo:12.4511349,56.090236
END:VEVENT
BEGIN:VEVENT
DTSTART;TZID=Europe/Copenhagen:20260223T190000
DTEND;TZID=Europe/Copenhagen:20260223T210000
DTSTAMP:20260421T122238
CREATED:20251022T121643Z
LAST-MODIFIED:20260312T025257Z
UID:10016367-1771873200-1771880400@www.hornbaekhus.com
SUMMARY:Fællesspisning
DESCRIPTION:Vi spiser sammen ved spisestuens plankeborde til fællesspisning hver aften kl. 19.00\, hvor maden serveres anrette på fade\, der går rundt. \nKøkkenet laver sæsonbetonet mad uden dogmer. Stilen er enkel og med fokus på gode råvarer. Som udgangspunkt er menuen vegetarisk torsdag og søndag. Find ugens menu længere nede på siden. \nVi tilbyder dagligt et vegetarisk alternativ til dagens måltid. Det er vigtigt\, at du noterer antal vegetarer i kommentarfeltet\, når du bestiller dit bord. \nPrisen er 175 kr. for middagen pr. person og 50 kr. for dessert. Dessert og kaffe kan købes efter maden. Børn til og med 3 år betaler ikke. \nHusk at reservere dine pladser på forhånd.\nAnkom gerne ca. 20 minutter før\, så du kan få noget at drikke og finde en plads ved langbordet\, inden maden serveres. \nVi kan ikke tilpasse maden eller garantere veganske\, mælkefri eller glutenfri muligheder.\nDer tages forbehold for ændringer i menuen. \nDu kan se menuen HER.
URL:https://www.hornbaekhus.com/aktivitet/faellesspisning/2026-02-23/
LOCATION:Hornbækhus\, Skovvej 7\, Hornbæk\, 3100\, Danmark
ATTACH;FMTTYPE=image/png:https://www.hornbaekhus.com/wp-content/uploads/2025/09/faellesspisning_1200x630.png
GEO:56.090236;12.4511349
X-APPLE-STRUCTURED-LOCATION;VALUE=URI;X-ADDRESS=Hornbækhus Skovvej 7 Hornbæk 3100 Danmark;X-APPLE-RADIUS=500;X-TITLE=Skovvej 7:geo:12.4511349,56.090236
END:VEVENT
BEGIN:VEVENT
DTSTART;TZID=Europe/Copenhagen:20260224T090000
DTEND;TZID=Europe/Copenhagen:20260224T100000
DTSTAMP:20260421T122238
CREATED:20240311T111801Z
LAST-MODIFIED:20251103T172401Z
UID:10010454-1771923600-1771927200@www.hornbaekhus.com
SUMMARY:Løbeklub
DESCRIPTION:Løb med Hornbæks hyggeligste løbefamilie hver tirsdag og torsdag\nAlle er velkomne uanset niveau. \nVi mødes ved trappen foran Hornbækhus ca. 5 min før\, hvor en repræsentant fra Løbeklubben tager imod.\nBagefter er der kaffe og morgenbolle på Hornbækhus.\nDet er gratis at deltage\, og tilmelding er ikke nødvendig. \nVi glæder os til at løbe med dig.
URL:https://www.hornbaekhus.com/aktivitet/loebeklub-2/2026-02-24/
LOCATION:Hornbækhus\, Skovvej 7\, Hornbæk\, 3100\, Danmark
ATTACH;FMTTYPE=image/png:https://www.hornbaekhus.com/wp-content/uploads/2024/03/loebeklub_1200x630.png
GEO:56.090236;12.4511349
X-APPLE-STRUCTURED-LOCATION;VALUE=URI;X-ADDRESS=Hornbækhus Skovvej 7 Hornbæk 3100 Danmark;X-APPLE-RADIUS=500;X-TITLE=Skovvej 7:geo:12.4511349,56.090236
END:VEVENT
BEGIN:VEVENT
DTSTART;TZID=Europe/Copenhagen:20260224T170000
DTEND;TZID=Europe/Copenhagen:20260224T190000
DTSTAMP:20260421T122238
CREATED:20251222T121401Z
LAST-MODIFIED:20251222T121401Z
UID:10024889-1771952400-1771959600@www.hornbaekhus.com
SUMMARY:Hornbækhus Fællesskabskor
DESCRIPTION:Har du lyst til at synge\, men aldrig prøvet det før? Eller vil du bare gerne mødes en gang om ugen og synge med andre skønne mennesker? Så er Hornbækhus Fællesskabskor et begynderkor\, som er lige noget for dig! Her handler det ikke om at ramme de høje toner perfekt – det handler om at have det sjovt sammen\, mærke fællesskabet og nyde musikken. \nVi starter helt fra bunden\, og du behøver hverken kunne læse noder eller have korerfaring. Der er ingen krav om præstation – kun lysten til at være med. Kom som du er\, og vær med til at skabe et trygt og hyggeligt rum\, hvor vi sammen opdager glæden ved at synge og synge i kor. \nVi starter med enstemmige sange\, og Anne lærer jer at holde tonerne og også om\, hvad det vil sige at synge i kor. Når vi er klar\, kaster vi os ud i nemme to-stemmige sange. Vi håber\, at du har lyst til at komme og synge med. \nKoret vil blive ledet af Anne Lünell\, som har stor erfaring med sangundervisning og som korleder. Anne har undervist i solosang i over 20 år og været aktiv i teatergruppen Mastodonterne siden 2002 – først som sanger og senest som sangcoach. \nPraktisk information:\n• Opstart: Tirsdag d. 20. januar 2026\n• Varighed: 8 uger. Vi mødes 9 gange. (sidste gang d. 17. marts 2026)\n• Tidspunkt: Hver tirsdag kl. 17.00–19.00\n• Sted: Hornbækhus\, Skovvej 7\, Hornbæk\n• Pris: 800 kr. for hele forløbet \nAlle er velkomne – uanset alder\, stemmeleje eller sangmod.
URL:https://www.hornbaekhus.com/aktivitet/hornbaekhus-faellesskabskor-9/2026-02-24/
LOCATION:Hotel Hornbækhus\, Skovvej 7\, Hornbæk\, 3100\, Danmark
ATTACH;FMTTYPE=image/png:https://www.hornbaekhus.com/wp-content/uploads/2025/09/kor_1200x630.png
GEO:56.090236;12.4511349
X-APPLE-STRUCTURED-LOCATION;VALUE=URI;X-ADDRESS=Hotel Hornbækhus Skovvej 7 Hornbæk 3100 Danmark;X-APPLE-RADIUS=500;X-TITLE=Skovvej 7:geo:12.4511349,56.090236
END:VEVENT
BEGIN:VEVENT
DTSTART;TZID=Europe/Copenhagen:20260224T190000
DTEND;TZID=Europe/Copenhagen:20260224T210000
DTSTAMP:20260421T122238
CREATED:20251022T121643Z
LAST-MODIFIED:20260312T025257Z
UID:10016368-1771959600-1771966800@www.hornbaekhus.com
SUMMARY:Fællesspisning
DESCRIPTION:Vi spiser sammen ved spisestuens plankeborde til fællesspisning hver aften kl. 19.00\, hvor maden serveres anrette på fade\, der går rundt. \nKøkkenet laver sæsonbetonet mad uden dogmer. Stilen er enkel og med fokus på gode råvarer. Som udgangspunkt er menuen vegetarisk torsdag og søndag. Find ugens menu længere nede på siden. \nVi tilbyder dagligt et vegetarisk alternativ til dagens måltid. Det er vigtigt\, at du noterer antal vegetarer i kommentarfeltet\, når du bestiller dit bord. \nPrisen er 175 kr. for middagen pr. person og 50 kr. for dessert. Dessert og kaffe kan købes efter maden. Børn til og med 3 år betaler ikke. \nHusk at reservere dine pladser på forhånd.\nAnkom gerne ca. 20 minutter før\, så du kan få noget at drikke og finde en plads ved langbordet\, inden maden serveres. \nVi kan ikke tilpasse maden eller garantere veganske\, mælkefri eller glutenfri muligheder.\nDer tages forbehold for ændringer i menuen. \nDu kan se menuen HER.
URL:https://www.hornbaekhus.com/aktivitet/faellesspisning/2026-02-24/
LOCATION:Hornbækhus\, Skovvej 7\, Hornbæk\, 3100\, Danmark
ATTACH;FMTTYPE=image/png:https://www.hornbaekhus.com/wp-content/uploads/2025/09/faellesspisning_1200x630.png
GEO:56.090236;12.4511349
X-APPLE-STRUCTURED-LOCATION;VALUE=URI;X-ADDRESS=Hornbækhus Skovvej 7 Hornbæk 3100 Danmark;X-APPLE-RADIUS=500;X-TITLE=Skovvej 7:geo:12.4511349,56.090236
END:VEVENT
BEGIN:VEVENT
DTSTART;TZID=Europe/Copenhagen:20260225T190000
DTEND;TZID=Europe/Copenhagen:20260225T210000
DTSTAMP:20260421T122238
CREATED:20251022T121643Z
LAST-MODIFIED:20260312T025257Z
UID:10016369-1772046000-1772053200@www.hornbaekhus.com
SUMMARY:Fællesspisning
DESCRIPTION:Vi spiser sammen ved spisestuens plankeborde til fællesspisning hver aften kl. 19.00\, hvor maden serveres anrette på fade\, der går rundt. \nKøkkenet laver sæsonbetonet mad uden dogmer. Stilen er enkel og med fokus på gode råvarer. Som udgangspunkt er menuen vegetarisk torsdag og søndag. Find ugens menu længere nede på siden. \nVi tilbyder dagligt et vegetarisk alternativ til dagens måltid. Det er vigtigt\, at du noterer antal vegetarer i kommentarfeltet\, når du bestiller dit bord. \nPrisen er 175 kr. for middagen pr. person og 50 kr. for dessert. Dessert og kaffe kan købes efter maden. Børn til og med 3 år betaler ikke. \nHusk at reservere dine pladser på forhånd.\nAnkom gerne ca. 20 minutter før\, så du kan få noget at drikke og finde en plads ved langbordet\, inden maden serveres. \nVi kan ikke tilpasse maden eller garantere veganske\, mælkefri eller glutenfri muligheder.\nDer tages forbehold for ændringer i menuen. \nDu kan se menuen HER.
URL:https://www.hornbaekhus.com/aktivitet/faellesspisning/2026-02-25/
LOCATION:Hornbækhus\, Skovvej 7\, Hornbæk\, 3100\, Danmark
ATTACH;FMTTYPE=image/png:https://www.hornbaekhus.com/wp-content/uploads/2025/09/faellesspisning_1200x630.png
GEO:56.090236;12.4511349
X-APPLE-STRUCTURED-LOCATION;VALUE=URI;X-ADDRESS=Hornbækhus Skovvej 7 Hornbæk 3100 Danmark;X-APPLE-RADIUS=500;X-TITLE=Skovvej 7:geo:12.4511349,56.090236
END:VEVENT
BEGIN:VEVENT
DTSTART;TZID=Europe/Copenhagen:20260226T083000
DTEND;TZID=Europe/Copenhagen:20260226T093000
DTSTAMP:20260421T122238
CREATED:20251211T101314Z
LAST-MODIFIED:20260211T151247Z
UID:10024220-1772094600-1772098200@www.hornbaekhus.com
SUMMARY:Morgenyoga
DESCRIPTION:Start din dag med morgenyoga på Hornbækhus\, hvor vi både vil arbejde med forskellige\, klassiske positioner og åndedræt. Alle kan deltage\, både den erfarne yogi og begynderen. \nPraktiske oplysninger:\nTag behageligt\, afslappet tøj på og medbring din egen yogamåtte og et tæppe\, du kan dække dig med under afspændingen.\nKom 15 minutter før\, så du kan nå at finde dig til rette.\nNår du ankommer\, vil du få at vide\, hvor på hotellet vi skal lave yoga den pågældende dag. \nLokationen vil variere fra dag til dag afhængig af antal og vejr. Henvend dig venligst i velkomsten på Hornbækhus for mødested på dagen. \nInstruktør: Anita Guldberg\nLæs mere om yoga med Anita Guldberg HER. \nDu kan også aftale andre tidspunkter for yoga med Anita på Hornbækhus ved at kontakte hende og høre om mulighederne på hendes mail på a_guldberg@hotmail.com. Så finder I et tidspunkt sammen.
URL:https://www.hornbaekhus.com/aktivitet/morgenyoga-5/2026-02-26/
LOCATION:Hornbæk
ATTACH;FMTTYPE=image/png:https://www.hornbaekhus.com/wp-content/uploads/2024/10/yoga2_1200x630-1.png
END:VEVENT
BEGIN:VEVENT
DTSTART;TZID=Europe/Copenhagen:20260226T090000
DTEND;TZID=Europe/Copenhagen:20260226T100000
DTSTAMP:20260421T122238
CREATED:20240311T111833Z
LAST-MODIFIED:20251103T172507Z
UID:10009938-1772096400-1772100000@www.hornbaekhus.com
SUMMARY:Løbeklub
DESCRIPTION:Løb med Hornbæks hyggeligste løbefamilie!\nVi løber sammen hver tirsdag og torsdag og hjælpes alle med at holde gejsten højt og sørge for\, at alle er med.\nALLE er velkomne\, uanset om du har løbet din 25. marathon eller først lige er nået op på de 3 km uden at holde pause. \nVi mødes ved trappen foran Hornbækhus ca. 5 min før\, hvor en repræsentant fra løbeklubben vil tage imod.\nBagefter er der kaffe og morgenbolle på Hornbækhus.\nDet er gratis at deltage. Du møder bare op. \nVi glæder os til at løbe med dig.\nBedste hilsner fra Løbeklubben.
URL:https://www.hornbaekhus.com/aktivitet/loebeklub-3/2026-02-26/
LOCATION:Hornbækhus\, Skovvej 7\, Hornbæk\, 3100\, Danmark
ATTACH;FMTTYPE=image/png:https://www.hornbaekhus.com/wp-content/uploads/2024/03/Loebeklub2_1200x630.png
GEO:56.090236;12.4511349
X-APPLE-STRUCTURED-LOCATION;VALUE=URI;X-ADDRESS=Hornbækhus Skovvej 7 Hornbæk 3100 Danmark;X-APPLE-RADIUS=500;X-TITLE=Skovvej 7:geo:12.4511349,56.090236
END:VEVENT
BEGIN:VEVENT
DTSTART;TZID=Europe/Copenhagen:20260226T180000
DTEND;TZID=Europe/Copenhagen:20260226T200000
DTSTAMP:20260421T122238
CREATED:20250118T205701Z
LAST-MODIFIED:20251103T172711Z
UID:10013886-1772128800-1772136000@www.hornbaekhus.com
SUMMARY:Strikkecafé
DESCRIPTION:Hver mandag og torsdag inviterer vi indenfor til strik og hækling i en af stuerne. Strikkecaféen er et samlingspunkt for alle der synes\, det er hyggeligt at mødes og strikke sammen med andre\, og det koster ingenting at være med. Tilmelding er dog nødvendig.\nVi byder på en kop kaffe og te.
URL:https://www.hornbaekhus.com/aktivitet/strikkecafe-2/2026-02-26/
LOCATION:Hornbækhus\, Skovvej 7\, Hornbæk\, 3100\, Danmark
ATTACH;FMTTYPE=image/png:https://www.hornbaekhus.com/wp-content/uploads/2023/06/strikkecafe_1200x630.png
GEO:56.090236;12.4511349
X-APPLE-STRUCTURED-LOCATION;VALUE=URI;X-ADDRESS=Hornbækhus Skovvej 7 Hornbæk 3100 Danmark;X-APPLE-RADIUS=500;X-TITLE=Skovvej 7:geo:12.4511349,56.090236
END:VEVENT
BEGIN:VEVENT
DTSTART;TZID=Europe/Copenhagen:20260226T190000
DTEND;TZID=Europe/Copenhagen:20260226T210000
DTSTAMP:20260421T122238
CREATED:20251022T121643Z
LAST-MODIFIED:20260312T025257Z
UID:10016370-1772132400-1772139600@www.hornbaekhus.com
SUMMARY:Fællesspisning
DESCRIPTION:Vi spiser sammen ved spisestuens plankeborde til fællesspisning hver aften kl. 19.00\, hvor maden serveres anrette på fade\, der går rundt. \nKøkkenet laver sæsonbetonet mad uden dogmer. Stilen er enkel og med fokus på gode råvarer. Som udgangspunkt er menuen vegetarisk torsdag og søndag. Find ugens menu længere nede på siden. \nVi tilbyder dagligt et vegetarisk alternativ til dagens måltid. Det er vigtigt\, at du noterer antal vegetarer i kommentarfeltet\, når du bestiller dit bord. \nPrisen er 175 kr. for middagen pr. person og 50 kr. for dessert. Dessert og kaffe kan købes efter maden. Børn til og med 3 år betaler ikke. \nHusk at reservere dine pladser på forhånd.\nAnkom gerne ca. 20 minutter før\, så du kan få noget at drikke og finde en plads ved langbordet\, inden maden serveres. \nVi kan ikke tilpasse maden eller garantere veganske\, mælkefri eller glutenfri muligheder.\nDer tages forbehold for ændringer i menuen. \nDu kan se menuen HER.
URL:https://www.hornbaekhus.com/aktivitet/faellesspisning/2026-02-26/
LOCATION:Hornbækhus\, Skovvej 7\, Hornbæk\, 3100\, Danmark
ATTACH;FMTTYPE=image/png:https://www.hornbaekhus.com/wp-content/uploads/2025/09/faellesspisning_1200x630.png
GEO:56.090236;12.4511349
X-APPLE-STRUCTURED-LOCATION;VALUE=URI;X-ADDRESS=Hornbækhus Skovvej 7 Hornbæk 3100 Danmark;X-APPLE-RADIUS=500;X-TITLE=Skovvej 7:geo:12.4511349,56.090236
END:VEVENT
BEGIN:VEVENT
DTSTART;TZID=Europe/Copenhagen:20260227T190000
DTEND;TZID=Europe/Copenhagen:20260227T210000
DTSTAMP:20260421T122238
CREATED:20251022T121643Z
LAST-MODIFIED:20260312T025257Z
UID:10016371-1772218800-1772226000@www.hornbaekhus.com
SUMMARY:Fællesspisning
DESCRIPTION:Vi spiser sammen ved spisestuens plankeborde til fællesspisning hver aften kl. 19.00\, hvor maden serveres anrette på fade\, der går rundt. \nKøkkenet laver sæsonbetonet mad uden dogmer. Stilen er enkel og med fokus på gode råvarer. Som udgangspunkt er menuen vegetarisk torsdag og søndag. Find ugens menu længere nede på siden. \nVi tilbyder dagligt et vegetarisk alternativ til dagens måltid. Det er vigtigt\, at du noterer antal vegetarer i kommentarfeltet\, når du bestiller dit bord. \nPrisen er 175 kr. for middagen pr. person og 50 kr. for dessert. Dessert og kaffe kan købes efter maden. Børn til og med 3 år betaler ikke. \nHusk at reservere dine pladser på forhånd.\nAnkom gerne ca. 20 minutter før\, så du kan få noget at drikke og finde en plads ved langbordet\, inden maden serveres. \nVi kan ikke tilpasse maden eller garantere veganske\, mælkefri eller glutenfri muligheder.\nDer tages forbehold for ændringer i menuen. \nDu kan se menuen HER.
URL:https://www.hornbaekhus.com/aktivitet/faellesspisning/2026-02-27/
LOCATION:Hornbækhus\, Skovvej 7\, Hornbæk\, 3100\, Danmark
ATTACH;FMTTYPE=image/png:https://www.hornbaekhus.com/wp-content/uploads/2025/09/faellesspisning_1200x630.png
GEO:56.090236;12.4511349
X-APPLE-STRUCTURED-LOCATION;VALUE=URI;X-ADDRESS=Hornbækhus Skovvej 7 Hornbæk 3100 Danmark;X-APPLE-RADIUS=500;X-TITLE=Skovvej 7:geo:12.4511349,56.090236
END:VEVENT
BEGIN:VEVENT
DTSTART;TZID=Europe/Copenhagen:20260228T190000
DTEND;TZID=Europe/Copenhagen:20260228T210000
DTSTAMP:20260421T122238
CREATED:20251022T121643Z
LAST-MODIFIED:20260312T025257Z
UID:10016372-1772305200-1772312400@www.hornbaekhus.com
SUMMARY:Fællesspisning
DESCRIPTION:Vi spiser sammen ved spisestuens plankeborde til fællesspisning hver aften kl. 19.00\, hvor maden serveres anrette på fade\, der går rundt. \nKøkkenet laver sæsonbetonet mad uden dogmer. Stilen er enkel og med fokus på gode råvarer. Som udgangspunkt er menuen vegetarisk torsdag og søndag. Find ugens menu længere nede på siden. \nVi tilbyder dagligt et vegetarisk alternativ til dagens måltid. Det er vigtigt\, at du noterer antal vegetarer i kommentarfeltet\, når du bestiller dit bord. \nPrisen er 175 kr. for middagen pr. person og 50 kr. for dessert. Dessert og kaffe kan købes efter maden. Børn til og med 3 år betaler ikke. \nHusk at reservere dine pladser på forhånd.\nAnkom gerne ca. 20 minutter før\, så du kan få noget at drikke og finde en plads ved langbordet\, inden maden serveres. \nVi kan ikke tilpasse maden eller garantere veganske\, mælkefri eller glutenfri muligheder.\nDer tages forbehold for ændringer i menuen. \nDu kan se menuen HER.
URL:https://www.hornbaekhus.com/aktivitet/faellesspisning/2026-02-28/
LOCATION:Hornbækhus\, Skovvej 7\, Hornbæk\, 3100\, Danmark
ATTACH;FMTTYPE=image/png:https://www.hornbaekhus.com/wp-content/uploads/2025/09/faellesspisning_1200x630.png
GEO:56.090236;12.4511349
X-APPLE-STRUCTURED-LOCATION;VALUE=URI;X-ADDRESS=Hornbækhus Skovvej 7 Hornbæk 3100 Danmark;X-APPLE-RADIUS=500;X-TITLE=Skovvej 7:geo:12.4511349,56.090236
END:VEVENT
BEGIN:VEVENT
DTSTART;TZID=Europe/Copenhagen:20260301T190000
DTEND;TZID=Europe/Copenhagen:20260301T210000
DTSTAMP:20260421T122238
CREATED:20251022T121643Z
LAST-MODIFIED:20260312T025257Z
UID:10016373-1772391600-1772398800@www.hornbaekhus.com
SUMMARY:Fællesspisning
DESCRIPTION:Vi spiser sammen ved spisestuens plankeborde til fællesspisning hver aften kl. 19.00\, hvor maden serveres anrette på fade\, der går rundt. \nKøkkenet laver sæsonbetonet mad uden dogmer. Stilen er enkel og med fokus på gode råvarer. Som udgangspunkt er menuen vegetarisk torsdag og søndag. Find ugens menu længere nede på siden. \nVi tilbyder dagligt et vegetarisk alternativ til dagens måltid. Det er vigtigt\, at du noterer antal vegetarer i kommentarfeltet\, når du bestiller dit bord. \nPrisen er 175 kr. for middagen pr. person og 50 kr. for dessert. Dessert og kaffe kan købes efter maden. Børn til og med 3 år betaler ikke. \nHusk at reservere dine pladser på forhånd.\nAnkom gerne ca. 20 minutter før\, så du kan få noget at drikke og finde en plads ved langbordet\, inden maden serveres. \nVi kan ikke tilpasse maden eller garantere veganske\, mælkefri eller glutenfri muligheder.\nDer tages forbehold for ændringer i menuen. \nDu kan se menuen HER.
URL:https://www.hornbaekhus.com/aktivitet/faellesspisning/2026-03-01/
LOCATION:Hornbækhus\, Skovvej 7\, Hornbæk\, 3100\, Danmark
ATTACH;FMTTYPE=image/png:https://www.hornbaekhus.com/wp-content/uploads/2025/09/faellesspisning_1200x630.png
GEO:56.090236;12.4511349
X-APPLE-STRUCTURED-LOCATION;VALUE=URI;X-ADDRESS=Hornbækhus Skovvej 7 Hornbæk 3100 Danmark;X-APPLE-RADIUS=500;X-TITLE=Skovvej 7:geo:12.4511349,56.090236
END:VEVENT
END:VCALENDAR