BEGIN:VCALENDAR
VERSION:2.0
PRODID:-//Hornbækhus - ECPv6.15.20//NONSGML v1.0//EN
CALSCALE:GREGORIAN
METHOD:PUBLISH
X-ORIGINAL-URL:https://www.hornbaekhus.com
X-WR-CALDESC:Aktiviteter for Hornbækhus
REFRESH-INTERVAL;VALUE=DURATION:PT1H
X-Robots-Tag:noindex
X-PUBLISHED-TTL:PT1H
BEGIN:VTIMEZONE
TZID:Europe/Copenhagen
BEGIN:DAYLIGHT
TZOFFSETFROM:+0100
TZOFFSETTO:+0200
TZNAME:CEST
DTSTART:20250330T010000
END:DAYLIGHT
BEGIN:STANDARD
TZOFFSETFROM:+0200
TZOFFSETTO:+0100
TZNAME:CET
DTSTART:20251026T010000
END:STANDARD
BEGIN:DAYLIGHT
TZOFFSETFROM:+0100
TZOFFSETTO:+0200
TZNAME:CEST
DTSTART:20260329T010000
END:DAYLIGHT
BEGIN:STANDARD
TZOFFSETFROM:+0200
TZOFFSETTO:+0100
TZNAME:CET
DTSTART:20261025T010000
END:STANDARD
BEGIN:DAYLIGHT
TZOFFSETFROM:+0100
TZOFFSETTO:+0200
TZNAME:CEST
DTSTART:20270328T010000
END:DAYLIGHT
BEGIN:STANDARD
TZOFFSETFROM:+0200
TZOFFSETTO:+0100
TZNAME:CET
DTSTART:20271031T010000
END:STANDARD
END:VTIMEZONE
BEGIN:VEVENT
DTSTART;TZID=Europe/Copenhagen:20260629T083000
DTEND;TZID=Europe/Copenhagen:20260629T093000
DTSTAMP:20260423T102714
CREATED:20260414T120339Z
LAST-MODIFIED:20260414T120339Z
UID:10024309-1782721800-1782725400@www.hornbaekhus.com
SUMMARY:Morgenyoga
DESCRIPTION:Start din dag med morgenyoga på Hornbækhus\, hvor vi både vil arbejde med forskellige\, klassiske positioner og åndedræt. Alle kan deltage\, både den erfarne yogi og begynderen. \nPraktiske oplysninger:\nTag behageligt\, afslappet tøj på og medbring din egen yogamåtte og et tæppe\, du kan dække dig med under afspændingen.\nKom 15 minutter før\, så du kan nå at finde dig til rette.\nNår du ankommer\, vil du få at vide\, hvor på hotellet vi skal lave yoga den pågældende dag. \nLokationen vil variere fra dag til dag afhængig af antal og vejr. Henvend dig venligst i velkomsten på Hornbækhus for mødested på dagen. \nInstruktør: Anita Guldberg\nLæs mere om yoga med Anita Guldberg HER. \nDu kan også aftale andre tidspunkter for yoga med Anita på Hornbækhus ved at kontakte hende og høre om mulighederne på hendes mail på a_guldberg@hotmail.com. Så finder I et tidspunkt sammen. \nDu kan også tage med til et yogaophold den 10.-11. maj. Læs mere om opholdet HER.
URL:https://www.hornbaekhus.com/aktivitet/morgenyoga-4-2/2026-06-29/
LOCATION:Hornbækhus\, Skovvej 7\, Hornbæk\, 3100\, Danmark
ATTACH;FMTTYPE=image/png:https://www.hornbaekhus.com/wp-content/uploads/2024/10/yoga2_1200x630-1.png
GEO:56.090236;12.4511349
X-APPLE-STRUCTURED-LOCATION;VALUE=URI;X-ADDRESS=Hornbækhus Skovvej 7 Hornbæk 3100 Danmark;X-APPLE-RADIUS=500;X-TITLE=Skovvej 7:geo:12.4511349,56.090236
END:VEVENT
BEGIN:VEVENT
DTSTART;TZID=Europe/Copenhagen:20260629T100000
DTEND;TZID=Europe/Copenhagen:20260629T120000
DTSTAMP:20260423T102714
CREATED:20230609T141153Z
LAST-MODIFIED:20260331T092237Z
UID:10011094-1782727200-1782734400@www.hornbaekhus.com
SUMMARY:Strikkecafé
DESCRIPTION:Hver mandag og torsdag inviterer vi indenfor til strik og hækling i en af stuerne. Strikkecaféen er et samlingspunkt for alle der synes\, det er hyggeligt at mødes og strikke sammen med andre\, og det koster ingenting at være med. Tilmelding er dog nødvendig.\nVi byder på en kop kaffe og te.
URL:https://www.hornbaekhus.com/aktivitet/strikkecafe/2026-06-29/
LOCATION:Hornbækhus\, Skovvej 7\, Hornbæk\, 3100\, Danmark
ATTACH;FMTTYPE=image/png:https://www.hornbaekhus.com/wp-content/uploads/2023/06/strikkecafe_1200x630.png
GEO:56.090236;12.4511349
X-APPLE-STRUCTURED-LOCATION;VALUE=URI;X-ADDRESS=Hornbækhus Skovvej 7 Hornbæk 3100 Danmark;X-APPLE-RADIUS=500;X-TITLE=Skovvej 7:geo:12.4511349,56.090236
END:VEVENT
BEGIN:VEVENT
DTSTART;TZID=Europe/Copenhagen:20260629T190000
DTEND;TZID=Europe/Copenhagen:20260629T210000
DTSTAMP:20260423T102714
CREATED:20251022T121643Z
LAST-MODIFIED:20260312T025257Z
UID:10016493-1782759600-1782766800@www.hornbaekhus.com
SUMMARY:Fællesspisning
DESCRIPTION:Vi spiser sammen ved spisestuens plankeborde til fællesspisning hver aften kl. 19.00\, hvor maden serveres anrette på fade\, der går rundt. \nKøkkenet laver sæsonbetonet mad uden dogmer. Stilen er enkel og med fokus på gode råvarer. Som udgangspunkt er menuen vegetarisk torsdag og søndag. Find ugens menu længere nede på siden. \nVi tilbyder dagligt et vegetarisk alternativ til dagens måltid. Det er vigtigt\, at du noterer antal vegetarer i kommentarfeltet\, når du bestiller dit bord. \nPrisen er 175 kr. for middagen pr. person og 50 kr. for dessert. Dessert og kaffe kan købes efter maden. Børn til og med 3 år betaler ikke. \nHusk at reservere dine pladser på forhånd.\nAnkom gerne ca. 20 minutter før\, så du kan få noget at drikke og finde en plads ved langbordet\, inden maden serveres. \nVi kan ikke tilpasse maden eller garantere veganske\, mælkefri eller glutenfri muligheder.\nDer tages forbehold for ændringer i menuen. \nDu kan se menuen HER.
URL:https://www.hornbaekhus.com/aktivitet/faellesspisning/2026-06-29/
LOCATION:Hornbækhus\, Skovvej 7\, Hornbæk\, 3100\, Danmark
ATTACH;FMTTYPE=image/png:https://www.hornbaekhus.com/wp-content/uploads/2025/09/faellesspisning_1200x630.png
GEO:56.090236;12.4511349
X-APPLE-STRUCTURED-LOCATION;VALUE=URI;X-ADDRESS=Hornbækhus Skovvej 7 Hornbæk 3100 Danmark;X-APPLE-RADIUS=500;X-TITLE=Skovvej 7:geo:12.4511349,56.090236
END:VEVENT
BEGIN:VEVENT
DTSTART;TZID=Europe/Copenhagen:20260630T090000
DTEND;TZID=Europe/Copenhagen:20260630T100000
DTSTAMP:20260423T102714
CREATED:20240311T111801Z
LAST-MODIFIED:20251103T172401Z
UID:10010472-1782810000-1782813600@www.hornbaekhus.com
SUMMARY:Løbeklub
DESCRIPTION:Løb med Hornbæks hyggeligste løbefamilie hver tirsdag og torsdag\nAlle er velkomne uanset niveau. \nVi mødes ved trappen foran Hornbækhus ca. 5 min før\, hvor en repræsentant fra Løbeklubben tager imod.\nBagefter er der kaffe og morgenbolle på Hornbækhus.\nDet er gratis at deltage\, og tilmelding er ikke nødvendig. \nVi glæder os til at løbe med dig.
URL:https://www.hornbaekhus.com/aktivitet/loebeklub-2/2026-06-30/
LOCATION:Hornbækhus\, Skovvej 7\, Hornbæk\, 3100\, Danmark
ATTACH;FMTTYPE=image/png:https://www.hornbaekhus.com/wp-content/uploads/2024/03/loebeklub_1200x630.png
GEO:56.090236;12.4511349
X-APPLE-STRUCTURED-LOCATION;VALUE=URI;X-ADDRESS=Hornbækhus Skovvej 7 Hornbæk 3100 Danmark;X-APPLE-RADIUS=500;X-TITLE=Skovvej 7:geo:12.4511349,56.090236
END:VEVENT
BEGIN:VEVENT
DTSTART;TZID=Europe/Copenhagen:20260630T190000
DTEND;TZID=Europe/Copenhagen:20260630T210000
DTSTAMP:20260423T102714
CREATED:20251022T121643Z
LAST-MODIFIED:20260312T025257Z
UID:10016494-1782846000-1782853200@www.hornbaekhus.com
SUMMARY:Fællesspisning
DESCRIPTION:Vi spiser sammen ved spisestuens plankeborde til fællesspisning hver aften kl. 19.00\, hvor maden serveres anrette på fade\, der går rundt. \nKøkkenet laver sæsonbetonet mad uden dogmer. Stilen er enkel og med fokus på gode råvarer. Som udgangspunkt er menuen vegetarisk torsdag og søndag. Find ugens menu længere nede på siden. \nVi tilbyder dagligt et vegetarisk alternativ til dagens måltid. Det er vigtigt\, at du noterer antal vegetarer i kommentarfeltet\, når du bestiller dit bord. \nPrisen er 175 kr. for middagen pr. person og 50 kr. for dessert. Dessert og kaffe kan købes efter maden. Børn til og med 3 år betaler ikke. \nHusk at reservere dine pladser på forhånd.\nAnkom gerne ca. 20 minutter før\, så du kan få noget at drikke og finde en plads ved langbordet\, inden maden serveres. \nVi kan ikke tilpasse maden eller garantere veganske\, mælkefri eller glutenfri muligheder.\nDer tages forbehold for ændringer i menuen. \nDu kan se menuen HER.
URL:https://www.hornbaekhus.com/aktivitet/faellesspisning/2026-06-30/
LOCATION:Hornbækhus\, Skovvej 7\, Hornbæk\, 3100\, Danmark
ATTACH;FMTTYPE=image/png:https://www.hornbaekhus.com/wp-content/uploads/2025/09/faellesspisning_1200x630.png
GEO:56.090236;12.4511349
X-APPLE-STRUCTURED-LOCATION;VALUE=URI;X-ADDRESS=Hornbækhus Skovvej 7 Hornbæk 3100 Danmark;X-APPLE-RADIUS=500;X-TITLE=Skovvej 7:geo:12.4511349,56.090236
END:VEVENT
BEGIN:VEVENT
DTSTART;TZID=Europe/Copenhagen:20260701T130000
DTEND;TZID=Europe/Copenhagen:20260701T160000
DTSTAMP:20260423T102714
CREATED:20260414T102302Z
LAST-MODIFIED:20260414T103100Z
UID:10014527-1782910800-1782921600@www.hornbaekhus.com
SUMMARY:Sommerbridge
DESCRIPTION:Vi mødes og spiller bridge på Villa Strand hver onsdag i sommerferien fra d. 1. juli til d. 5. august. Vi spiller fra kl. 13.00-16.00\, og hvis vejret er til det\, sætter vi bordene op ude i haven. \nAlle er velkomne\, uanset om bridgespillet er et helt nyt eller gammelt bekendtskab. \nBridge-eksperten Pia er vært og sørger for\, at alle finder en god plads ved det rette bord. \n 
URL:https://www.hornbaekhus.com/aktivitet/sommerbridge-2/2026-07-01/
LOCATION:Villa Strand\, Kystvej 12\, Hornbæk\, 3100\, Danmark
ATTACH;FMTTYPE=image/png:https://www.hornbaekhus.com/wp-content/uploads/2024/08/Bridge_1200x630.png
END:VEVENT
BEGIN:VEVENT
DTSTART;TZID=Europe/Copenhagen:20260701T190000
DTEND;TZID=Europe/Copenhagen:20260701T210000
DTSTAMP:20260423T102714
CREATED:20251022T121643Z
LAST-MODIFIED:20260312T025257Z
UID:10016495-1782932400-1782939600@www.hornbaekhus.com
SUMMARY:Fællesspisning
DESCRIPTION:Vi spiser sammen ved spisestuens plankeborde til fællesspisning hver aften kl. 19.00\, hvor maden serveres anrette på fade\, der går rundt. \nKøkkenet laver sæsonbetonet mad uden dogmer. Stilen er enkel og med fokus på gode råvarer. Som udgangspunkt er menuen vegetarisk torsdag og søndag. Find ugens menu længere nede på siden. \nVi tilbyder dagligt et vegetarisk alternativ til dagens måltid. Det er vigtigt\, at du noterer antal vegetarer i kommentarfeltet\, når du bestiller dit bord. \nPrisen er 175 kr. for middagen pr. person og 50 kr. for dessert. Dessert og kaffe kan købes efter maden. Børn til og med 3 år betaler ikke. \nHusk at reservere dine pladser på forhånd.\nAnkom gerne ca. 20 minutter før\, så du kan få noget at drikke og finde en plads ved langbordet\, inden maden serveres. \nVi kan ikke tilpasse maden eller garantere veganske\, mælkefri eller glutenfri muligheder.\nDer tages forbehold for ændringer i menuen. \nDu kan se menuen HER.
URL:https://www.hornbaekhus.com/aktivitet/faellesspisning/2026-07-01/
LOCATION:Hornbækhus\, Skovvej 7\, Hornbæk\, 3100\, Danmark
ATTACH;FMTTYPE=image/png:https://www.hornbaekhus.com/wp-content/uploads/2025/09/faellesspisning_1200x630.png
GEO:56.090236;12.4511349
X-APPLE-STRUCTURED-LOCATION;VALUE=URI;X-ADDRESS=Hornbækhus Skovvej 7 Hornbæk 3100 Danmark;X-APPLE-RADIUS=500;X-TITLE=Skovvej 7:geo:12.4511349,56.090236
END:VEVENT
BEGIN:VEVENT
DTSTART;TZID=Europe/Copenhagen:20260702T090000
DTEND;TZID=Europe/Copenhagen:20260702T100000
DTSTAMP:20260423T102714
CREATED:20240311T111833Z
LAST-MODIFIED:20251103T172507Z
UID:10009956-1782982800-1782986400@www.hornbaekhus.com
SUMMARY:Løbeklub
DESCRIPTION:Løb med Hornbæks hyggeligste løbefamilie!\nVi løber sammen hver tirsdag og torsdag og hjælpes alle med at holde gejsten højt og sørge for\, at alle er med.\nALLE er velkomne\, uanset om du har løbet din 25. marathon eller først lige er nået op på de 3 km uden at holde pause. \nVi mødes ved trappen foran Hornbækhus ca. 5 min før\, hvor en repræsentant fra løbeklubben vil tage imod.\nBagefter er der kaffe og morgenbolle på Hornbækhus.\nDet er gratis at deltage. Du møder bare op. \nVi glæder os til at løbe med dig.\nBedste hilsner fra Løbeklubben.
URL:https://www.hornbaekhus.com/aktivitet/loebeklub-3/2026-07-02/
LOCATION:Hornbækhus\, Skovvej 7\, Hornbæk\, 3100\, Danmark
ATTACH;FMTTYPE=image/png:https://www.hornbaekhus.com/wp-content/uploads/2024/03/Loebeklub2_1200x630.png
GEO:56.090236;12.4511349
X-APPLE-STRUCTURED-LOCATION;VALUE=URI;X-ADDRESS=Hornbækhus Skovvej 7 Hornbæk 3100 Danmark;X-APPLE-RADIUS=500;X-TITLE=Skovvej 7:geo:12.4511349,56.090236
END:VEVENT
BEGIN:VEVENT
DTSTART;TZID=Europe/Copenhagen:20260702T180000
DTEND;TZID=Europe/Copenhagen:20260702T200000
DTSTAMP:20260423T102714
CREATED:20250118T205701Z
LAST-MODIFIED:20251103T172711Z
UID:10013904-1783015200-1783022400@www.hornbaekhus.com
SUMMARY:Strikkecafé
DESCRIPTION:Hver mandag og torsdag inviterer vi indenfor til strik og hækling i en af stuerne. Strikkecaféen er et samlingspunkt for alle der synes\, det er hyggeligt at mødes og strikke sammen med andre\, og det koster ingenting at være med. Tilmelding er dog nødvendig.\nVi byder på en kop kaffe og te.
URL:https://www.hornbaekhus.com/aktivitet/strikkecafe-2/2026-07-02/
LOCATION:Hornbækhus\, Skovvej 7\, Hornbæk\, 3100\, Danmark
ATTACH;FMTTYPE=image/png:https://www.hornbaekhus.com/wp-content/uploads/2023/06/strikkecafe_1200x630.png
GEO:56.090236;12.4511349
X-APPLE-STRUCTURED-LOCATION;VALUE=URI;X-ADDRESS=Hornbækhus Skovvej 7 Hornbæk 3100 Danmark;X-APPLE-RADIUS=500;X-TITLE=Skovvej 7:geo:12.4511349,56.090236
END:VEVENT
BEGIN:VEVENT
DTSTART;TZID=Europe/Copenhagen:20260702T190000
DTEND;TZID=Europe/Copenhagen:20260702T210000
DTSTAMP:20260423T102714
CREATED:20251022T121643Z
LAST-MODIFIED:20260312T025257Z
UID:10016496-1783018800-1783026000@www.hornbaekhus.com
SUMMARY:Fællesspisning
DESCRIPTION:Vi spiser sammen ved spisestuens plankeborde til fællesspisning hver aften kl. 19.00\, hvor maden serveres anrette på fade\, der går rundt. \nKøkkenet laver sæsonbetonet mad uden dogmer. Stilen er enkel og med fokus på gode råvarer. Som udgangspunkt er menuen vegetarisk torsdag og søndag. Find ugens menu længere nede på siden. \nVi tilbyder dagligt et vegetarisk alternativ til dagens måltid. Det er vigtigt\, at du noterer antal vegetarer i kommentarfeltet\, når du bestiller dit bord. \nPrisen er 175 kr. for middagen pr. person og 50 kr. for dessert. Dessert og kaffe kan købes efter maden. Børn til og med 3 år betaler ikke. \nHusk at reservere dine pladser på forhånd.\nAnkom gerne ca. 20 minutter før\, så du kan få noget at drikke og finde en plads ved langbordet\, inden maden serveres. \nVi kan ikke tilpasse maden eller garantere veganske\, mælkefri eller glutenfri muligheder.\nDer tages forbehold for ændringer i menuen. \nDu kan se menuen HER.
URL:https://www.hornbaekhus.com/aktivitet/faellesspisning/2026-07-02/
LOCATION:Hornbækhus\, Skovvej 7\, Hornbæk\, 3100\, Danmark
ATTACH;FMTTYPE=image/png:https://www.hornbaekhus.com/wp-content/uploads/2025/09/faellesspisning_1200x630.png
GEO:56.090236;12.4511349
X-APPLE-STRUCTURED-LOCATION;VALUE=URI;X-ADDRESS=Hornbækhus Skovvej 7 Hornbæk 3100 Danmark;X-APPLE-RADIUS=500;X-TITLE=Skovvej 7:geo:12.4511349,56.090236
END:VEVENT
BEGIN:VEVENT
DTSTART;TZID=Europe/Copenhagen:20260703T190000
DTEND;TZID=Europe/Copenhagen:20260703T210000
DTSTAMP:20260423T102714
CREATED:20251022T121643Z
LAST-MODIFIED:20260312T025257Z
UID:10016497-1783105200-1783112400@www.hornbaekhus.com
SUMMARY:Fællesspisning
DESCRIPTION:Vi spiser sammen ved spisestuens plankeborde til fællesspisning hver aften kl. 19.00\, hvor maden serveres anrette på fade\, der går rundt. \nKøkkenet laver sæsonbetonet mad uden dogmer. Stilen er enkel og med fokus på gode råvarer. Som udgangspunkt er menuen vegetarisk torsdag og søndag. Find ugens menu længere nede på siden. \nVi tilbyder dagligt et vegetarisk alternativ til dagens måltid. Det er vigtigt\, at du noterer antal vegetarer i kommentarfeltet\, når du bestiller dit bord. \nPrisen er 175 kr. for middagen pr. person og 50 kr. for dessert. Dessert og kaffe kan købes efter maden. Børn til og med 3 år betaler ikke. \nHusk at reservere dine pladser på forhånd.\nAnkom gerne ca. 20 minutter før\, så du kan få noget at drikke og finde en plads ved langbordet\, inden maden serveres. \nVi kan ikke tilpasse maden eller garantere veganske\, mælkefri eller glutenfri muligheder.\nDer tages forbehold for ændringer i menuen. \nDu kan se menuen HER.
URL:https://www.hornbaekhus.com/aktivitet/faellesspisning/2026-07-03/
LOCATION:Hornbækhus\, Skovvej 7\, Hornbæk\, 3100\, Danmark
ATTACH;FMTTYPE=image/png:https://www.hornbaekhus.com/wp-content/uploads/2025/09/faellesspisning_1200x630.png
GEO:56.090236;12.4511349
X-APPLE-STRUCTURED-LOCATION;VALUE=URI;X-ADDRESS=Hornbækhus Skovvej 7 Hornbæk 3100 Danmark;X-APPLE-RADIUS=500;X-TITLE=Skovvej 7:geo:12.4511349,56.090236
END:VEVENT
BEGIN:VEVENT
DTSTART;TZID=Europe/Copenhagen:20260703T200000
DTEND;TZID=Europe/Copenhagen:20260703T220000
DTSTAMP:20260423T102714
CREATED:20250717T083925Z
LAST-MODIFIED:20260414T164153Z
UID:10025842-1783108800-1783116000@www.hornbaekhus.com
SUMMARY:Musik på Villa Strand med Anita Guldbergs Orkester
DESCRIPTION:Anita Guldbergs Orkester giver koncert udendørs på Villa Strand\, og du er inviteret.\nOrkestret kommer med farverige kærlighedssange og bløde sommertoner\, og vi glæder os til\, at gruppen endnu engang fylder haven på Villa Strand med musik.\n\nTag et tæppe under armen og nyd en sommeraften med musik på Villa Strand.\nØnsker du at deltage i fællesspisning kl. 19.00 inden koncerten\, kan du se menuen og reservere pladser HER.\n\nDet vil være muligt at købe drikkevarer i Strandbaren.
URL:https://www.hornbaekhus.com/aktivitet/musik-paa-villa-strand-anita-guldberg/2026-07-03/
LOCATION:Villa Strand\, Kystvej 12\, Hornbæk\, 3100\, Danmark
ATTACH;FMTTYPE=image/png:https://www.hornbaekhus.com/wp-content/uploads/2024/04/noder_1200x630-1.png
END:VEVENT
BEGIN:VEVENT
DTSTART;TZID=Europe/Copenhagen:20260704T190000
DTEND;TZID=Europe/Copenhagen:20260704T210000
DTSTAMP:20260423T102714
CREATED:20251022T121643Z
LAST-MODIFIED:20260312T025257Z
UID:10016498-1783191600-1783198800@www.hornbaekhus.com
SUMMARY:Fællesspisning
DESCRIPTION:Vi spiser sammen ved spisestuens plankeborde til fællesspisning hver aften kl. 19.00\, hvor maden serveres anrette på fade\, der går rundt. \nKøkkenet laver sæsonbetonet mad uden dogmer. Stilen er enkel og med fokus på gode råvarer. Som udgangspunkt er menuen vegetarisk torsdag og søndag. Find ugens menu længere nede på siden. \nVi tilbyder dagligt et vegetarisk alternativ til dagens måltid. Det er vigtigt\, at du noterer antal vegetarer i kommentarfeltet\, når du bestiller dit bord. \nPrisen er 175 kr. for middagen pr. person og 50 kr. for dessert. Dessert og kaffe kan købes efter maden. Børn til og med 3 år betaler ikke. \nHusk at reservere dine pladser på forhånd.\nAnkom gerne ca. 20 minutter før\, så du kan få noget at drikke og finde en plads ved langbordet\, inden maden serveres. \nVi kan ikke tilpasse maden eller garantere veganske\, mælkefri eller glutenfri muligheder.\nDer tages forbehold for ændringer i menuen. \nDu kan se menuen HER.
URL:https://www.hornbaekhus.com/aktivitet/faellesspisning/2026-07-04/
LOCATION:Hornbækhus\, Skovvej 7\, Hornbæk\, 3100\, Danmark
ATTACH;FMTTYPE=image/png:https://www.hornbaekhus.com/wp-content/uploads/2025/09/faellesspisning_1200x630.png
GEO:56.090236;12.4511349
X-APPLE-STRUCTURED-LOCATION;VALUE=URI;X-ADDRESS=Hornbækhus Skovvej 7 Hornbæk 3100 Danmark;X-APPLE-RADIUS=500;X-TITLE=Skovvej 7:geo:12.4511349,56.090236
END:VEVENT
BEGIN:VEVENT
DTSTART;TZID=Europe/Copenhagen:20260705T190000
DTEND;TZID=Europe/Copenhagen:20260705T210000
DTSTAMP:20260423T102714
CREATED:20251022T121643Z
LAST-MODIFIED:20260312T025257Z
UID:10016499-1783278000-1783285200@www.hornbaekhus.com
SUMMARY:Fællesspisning
DESCRIPTION:Vi spiser sammen ved spisestuens plankeborde til fællesspisning hver aften kl. 19.00\, hvor maden serveres anrette på fade\, der går rundt. \nKøkkenet laver sæsonbetonet mad uden dogmer. Stilen er enkel og med fokus på gode råvarer. Som udgangspunkt er menuen vegetarisk torsdag og søndag. Find ugens menu længere nede på siden. \nVi tilbyder dagligt et vegetarisk alternativ til dagens måltid. Det er vigtigt\, at du noterer antal vegetarer i kommentarfeltet\, når du bestiller dit bord. \nPrisen er 175 kr. for middagen pr. person og 50 kr. for dessert. Dessert og kaffe kan købes efter maden. Børn til og med 3 år betaler ikke. \nHusk at reservere dine pladser på forhånd.\nAnkom gerne ca. 20 minutter før\, så du kan få noget at drikke og finde en plads ved langbordet\, inden maden serveres. \nVi kan ikke tilpasse maden eller garantere veganske\, mælkefri eller glutenfri muligheder.\nDer tages forbehold for ændringer i menuen. \nDu kan se menuen HER.
URL:https://www.hornbaekhus.com/aktivitet/faellesspisning/2026-07-05/
LOCATION:Hornbækhus\, Skovvej 7\, Hornbæk\, 3100\, Danmark
ATTACH;FMTTYPE=image/png:https://www.hornbaekhus.com/wp-content/uploads/2025/09/faellesspisning_1200x630.png
GEO:56.090236;12.4511349
X-APPLE-STRUCTURED-LOCATION;VALUE=URI;X-ADDRESS=Hornbækhus Skovvej 7 Hornbæk 3100 Danmark;X-APPLE-RADIUS=500;X-TITLE=Skovvej 7:geo:12.4511349,56.090236
END:VEVENT
END:VCALENDAR